BEGIN:VCALENDAR
VERSION:2.0
PRODID:-//wp-events-plugin.com//7.2.3.1//EN
TZID:Europe/London
X-WR-TIMEZONE:Europe/London
BEGIN:VEVENT
UID:412@larevistadelapalma.com
DTSTART:20231203T080000Z
DTEND:20231203T130000Z
DTSTAMP:20231201T001528Z
URL:https://www.larevistadelapalma.com/events/mercadillo-de-puntallana-202
 3-12-03/
SUMMARY:Degustaciones navideñas en el Mercadillo de Puntallana
DESCRIPTION:Jornada de puertas abiertas del PFAE Puntallana Agricultura Eco
 lógica\, y degustación de entrantes navideños
ATTACH;FMTTYPE=image/jpeg:https://www.larevistadelapalma.com/wp-content/up
 loads/2023/06/Degustaciones-Mercadillo-de-PUntallana.jpg
CATEGORIES:Ferias y mercados,Otras propuestas
LOCATION:Mercadillo Municipal de Puntallana\, C. la Camacha\, 1\, Puntallan
 a\, 38715\, España
GEO:28.740107;-17.747185
X-APPLE-STRUCTURED-LOCATION;VALUE=URI;X-ADDRESS=C. la Camacha\, 1\, Puntall
 ana\, 38715\, España;X-APPLE-RADIUS=100;X-TITLE=Mercadillo Municipal de P
 untallana:geo:28.740107,-17.747185
END:VEVENT
END:VCALENDARBEGIN:VCALENDAR
VERSION:2.0
PRODID:-//wp-events-plugin.com//7.2.3.1//EN
TZID:Europe/London
X-WR-TIMEZONE:Europe/London
BEGIN:VEVENT
UID:412@larevistadelapalma.com
DTSTART:20231203T080000Z
DTEND:20231203T130000Z
DTSTAMP:20231201T001528Z
URL:https://www.larevistadelapalma.com/events/mercadillo-de-puntallana-202
 3-12-03/
SUMMARY:Degustaciones navideñas en el Mercadillo de Puntallana
DESCRIPTION:Jornada de puertas abiertas del PFAE Puntallana Agricultura Eco
 lógica\, y degustación de entrantes navideños
ATTACH;FMTTYPE=image/jpeg:https://www.larevistadelapalma.com/wp-content/up
 loads/2023/06/Degustaciones-Mercadillo-de-PUntallana.jpg
CATEGORIES:Ferias y mercados,Otras propuestas
LOCATION:Mercadillo Municipal de Puntallana\, C. la Camacha\, 1\, Puntallan
 a\, 38715\, España
GEO:28.740107;-17.747185
X-APPLE-STRUCTURED-LOCATION;VALUE=URI;X-ADDRESS=C. la Camacha\, 1\, Puntall
 ana\, 38715\, España;X-APPLE-RADIUS=100;X-TITLE=Mercadillo Municipal de P
 untallana:geo:28.740107,-17.747185
END:VEVENT
END:VCALENDAR