BEGIN:VCALENDAR
VERSION:2.0
PRODID:-//wp-events-plugin.com//7.2.3.1//EN
TZID:Europe/London
X-WR-TIMEZONE:Europe/London
BEGIN:VEVENT
UID:181@larevistadelapalma.com
DTSTART:20230722T090000Z
DTEND:20230722T130000Z
DTSTAMP:20230720T120630Z
URL:https://www.larevistadelapalma.com/events/mercadillo-de-san-andres-y-s
 auces/
SUMMARY:Mercadillo de San Andrés y Sauces
DESCRIPTION:De 10:00 a 14:00 horas\, Mercadillo agricultor y artesano en Sa
 n Andrés y Sauces. 
ATTACH;FMTTYPE=image/jpeg:https://www.larevistadelapalma.com/wp-content/up
 loads/2023/07/san-andres-y-sauces-mercadillo.jpg
CATEGORIES:Ferias y mercados,Otras propuestas
LOCATION:Plaza de Montserrat en San Andrés y Sauces\, Calle Montserrat\, S
 an Andrés y Sauces\, 38729\, España
GEO:28.784222;-17.799155
X-APPLE-STRUCTURED-LOCATION;VALUE=URI;X-ADDRESS=Calle Montserrat\, San Andr
 és y Sauces\, 38729\, España;X-APPLE-RADIUS=100;X-TITLE=Plaza de Montser
 rat en San Andrés y Sauces:geo:28.784222,-17.799155
END:VEVENT
END:VCALENDARBEGIN:VCALENDAR
VERSION:2.0
PRODID:-//wp-events-plugin.com//7.2.3.1//EN
TZID:Europe/London
X-WR-TIMEZONE:Europe/London
BEGIN:VEVENT
UID:181@larevistadelapalma.com
DTSTART:20230722T090000Z
DTEND:20230722T130000Z
DTSTAMP:20230720T120630Z
URL:https://www.larevistadelapalma.com/events/mercadillo-de-san-andres-y-s
 auces/
SUMMARY:Mercadillo de San Andrés y Sauces
DESCRIPTION:De 10:00 a 14:00 horas\, Mercadillo agricultor y artesano en Sa
 n Andrés y Sauces. 
ATTACH;FMTTYPE=image/jpeg:https://www.larevistadelapalma.com/wp-content/up
 loads/2023/07/san-andres-y-sauces-mercadillo.jpg
CATEGORIES:Ferias y mercados,Otras propuestas
LOCATION:Plaza de Montserrat en San Andrés y Sauces\, Calle Montserrat\, S
 an Andrés y Sauces\, 38729\, España
GEO:28.784222;-17.799155
X-APPLE-STRUCTURED-LOCATION;VALUE=URI;X-ADDRESS=Calle Montserrat\, San Andr
 és y Sauces\, 38729\, España;X-APPLE-RADIUS=100;X-TITLE=Plaza de Montser
 rat en San Andrés y Sauces:geo:28.784222,-17.799155
END:VEVENT
END:VCALENDAR