BEGIN:VCALENDAR
VERSION:2.0
PRODID:-//wp-events-plugin.com//7.2.3.1//EN
TZID:Europe/London
X-WR-TIMEZONE:Europe/London
BEGIN:VEVENT
UID:2198@larevistadelapalma.com
DTSTART:20240128T070000Z
DTEND:20240128T121500Z
DTSTAMP:20240125T221018Z
URL:https://www.larevistadelapalma.com/events/mercadillo-del-agricultor-de
 -los-llanos-de-aridane-2-2024-01-28/
SUMMARY:Música en directo de Koke en el Mercadillo del agricultor de Los L
 lanos
DESCRIPTION:Este domingo\, desde las 11:00 horas disfrutaremos de Koke junt
 o al mejor producto local.
ATTACH;FMTTYPE=image/jpeg:https://www.larevistadelapalma.com/wp-content/up
 loads/2024/01/Koke-mercadillo-Los-Llanos.jpg
CATEGORIES:Ferias y mercados,Otras propuestas
LOCATION:Avenida Doctor Fleming\, Los Llanos de Aridane\, Avenida Doctor Fl
 eming\, Los Llanos de Aridane\, 38760\, España
GEO:28.658918;-17.914166
X-APPLE-STRUCTURED-LOCATION;VALUE=URI;X-ADDRESS=Avenida Doctor Fleming\, Lo
 s Llanos de Aridane\, 38760\, España;X-APPLE-RADIUS=100;X-TITLE=Avenida D
 octor Fleming\, Los Llanos de Aridane:geo:28.658918,-17.914166
END:VEVENT
END:VCALENDARBEGIN:VCALENDAR
VERSION:2.0
PRODID:-//wp-events-plugin.com//7.2.3.1//EN
TZID:Europe/London
X-WR-TIMEZONE:Europe/London
BEGIN:VEVENT
UID:2198@larevistadelapalma.com
DTSTART:20240128T070000Z
DTEND:20240128T121500Z
DTSTAMP:20240125T221018Z
URL:https://www.larevistadelapalma.com/events/mercadillo-del-agricultor-de
 -los-llanos-de-aridane-2-2024-01-28/
SUMMARY:Música en directo de Koke en el Mercadillo del agricultor de Los L
 lanos
DESCRIPTION:Este domingo\, desde las 11:00 horas disfrutaremos de Koke junt
 o al mejor producto local.
ATTACH;FMTTYPE=image/jpeg:https://www.larevistadelapalma.com/wp-content/up
 loads/2024/01/Koke-mercadillo-Los-Llanos.jpg
CATEGORIES:Ferias y mercados,Otras propuestas
LOCATION:Avenida Doctor Fleming\, Los Llanos de Aridane\, Avenida Doctor Fl
 eming\, Los Llanos de Aridane\, 38760\, España
GEO:28.658918;-17.914166
X-APPLE-STRUCTURED-LOCATION;VALUE=URI;X-ADDRESS=Avenida Doctor Fleming\, Lo
 s Llanos de Aridane\, 38760\, España;X-APPLE-RADIUS=100;X-TITLE=Avenida D
 octor Fleming\, Los Llanos de Aridane:geo:28.658918,-17.914166
END:VEVENT
END:VCALENDAR