BEGIN:VCALENDAR
VERSION:2.0
PRODID:-//wp-events-plugin.com//7.2.3.1//EN
TZID:Europe/London
X-WR-TIMEZONE:Europe/London
BEGIN:VEVENT
UID:2212@larevistadelapalma.com
DTSTART:20240505T070000Z
DTEND:20240505T121500Z
DTSTAMP:20240409T232723Z
URL:https://www.larevistadelapalma.com/events/mercadillo-del-agricultor-de
 -los-llanos-de-aridane-2-2024-05-05/
SUMMARY:Mercadillo de Los Llanos de Aridane\, con aperitivo
DESCRIPTION:El mercadillo se lleva a cabo cada domingo.\n\nDesde el mes de 
 abril\, el primer domingo de cada mes el mercadillo ofrece actividades de 
 dinamización como el "Aperitivo en el Mercadillo"\, una iniciativa en la
  que las personas que compren en alguno de los puestos disfrutarán de una
  degustación culinaria.\n\nUn Aperitivo en el Mercadillo es una activid
 ad para premiar a las personas que cuidan al sector primario. Las personas
  que compren en los puestos recibirán distintos tickets para canjear por 
 un aperitivo\, el cual está compuesto por productos locales. Cada aperiti
 vo se canjeará por cinco tickets\, lo cuales son equivalentes a un euro d
 e gasto.\n\nAdemás habrá un ‘photocall’ para que los asistentes pued
 an interactuar con el evento a través de redes sociales.
ATTACH;FMTTYPE=image/jpeg:https://www.larevistadelapalma.com/wp-content/up
 loads/2024/01/Aperitivo-en-el-mercadillo.jpeg
CATEGORIES:Ferias y mercados,Otras propuestas
LOCATION:Avenida Doctor Fleming\, Los Llanos de Aridane\, Avenida Doctor Fl
 eming\, Los Llanos de Aridane\, 38760\, España
GEO:28.658918;-17.914166
X-APPLE-STRUCTURED-LOCATION;VALUE=URI;X-ADDRESS=Avenida Doctor Fleming\, Lo
 s Llanos de Aridane\, 38760\, España;X-APPLE-RADIUS=100;X-TITLE=Avenida D
 octor Fleming\, Los Llanos de Aridane:geo:28.658918,-17.914166
END:VEVENT
END:VCALENDARBEGIN:VCALENDAR
VERSION:2.0
PRODID:-//wp-events-plugin.com//7.2.3.1//EN
TZID:Europe/London
X-WR-TIMEZONE:Europe/London
BEGIN:VEVENT
UID:2212@larevistadelapalma.com
DTSTART:20240505T070000Z
DTEND:20240505T121500Z
DTSTAMP:20240409T232723Z
URL:https://www.larevistadelapalma.com/events/mercadillo-del-agricultor-de
 -los-llanos-de-aridane-2-2024-05-05/
SUMMARY:Mercadillo de Los Llanos de Aridane\, con aperitivo
DESCRIPTION:El mercadillo se lleva a cabo cada domingo.\n\nDesde el mes de 
 abril\, el primer domingo de cada mes el mercadillo ofrece actividades de 
 dinamización como el "Aperitivo en el Mercadillo"\, una iniciativa en la
  que las personas que compren en alguno de los puestos disfrutarán de una
  degustación culinaria.\n\nUn Aperitivo en el Mercadillo es una activid
 ad para premiar a las personas que cuidan al sector primario. Las personas
  que compren en los puestos recibirán distintos tickets para canjear por 
 un aperitivo\, el cual está compuesto por productos locales. Cada aperiti
 vo se canjeará por cinco tickets\, lo cuales son equivalentes a un euro d
 e gasto.\n\nAdemás habrá un ‘photocall’ para que los asistentes pued
 an interactuar con el evento a través de redes sociales.
ATTACH;FMTTYPE=image/jpeg:https://www.larevistadelapalma.com/wp-content/up
 loads/2024/01/Aperitivo-en-el-mercadillo.jpeg
CATEGORIES:Ferias y mercados,Otras propuestas
LOCATION:Avenida Doctor Fleming\, Los Llanos de Aridane\, Avenida Doctor Fl
 eming\, Los Llanos de Aridane\, 38760\, España
GEO:28.658918;-17.914166
X-APPLE-STRUCTURED-LOCATION;VALUE=URI;X-ADDRESS=Avenida Doctor Fleming\, Lo
 s Llanos de Aridane\, 38760\, España;X-APPLE-RADIUS=100;X-TITLE=Avenida D
 octor Fleming\, Los Llanos de Aridane:geo:28.658918,-17.914166
END:VEVENT
END:VCALENDAR