BEGIN:VCALENDAR
VERSION:2.0
PRODID:-//wp-events-plugin.com//7.2.3.1//EN
TZID:Europe/London
X-WR-TIMEZONE:Europe/London
BEGIN:VEVENT
UID:716@larevistadelapalma.com
DTSTART:20231112T070000Z
DTEND:20231112T121500Z
DTSTAMP:20231108T182657Z
URL:https://www.larevistadelapalma.com/events/mercadillo-del-agricultor-de
 -los-llanos-de-aridane-2023-11-12/
SUMMARY:Edición especial San Martín en el Mercadillo de Los Llanos de Ari
 dane
DESCRIPTION:El mercadillo se lleva a cabo cada domingo\, ahora con actuacio
 nes de música en vivo.\nEl Ayuntamiento de Los Llanos de Aridane organiza
  la celebración de San Martín en la Plaza del Mercado este domingo\, 12 
 de noviembre. A partir de las 11:00 horas\, el lugar estará animado con m
 úsica en vivo de la mano de Parranda La Era\, al tiempo que se repartirá
 n vino y castañas.\n\nLa concejala de Desarrollo Local y Comercio\, Veró
 nica González\, recuerda que\, como es tradicional\, el domingo de la sem
 ana de San Martín\, el mercadillo del agricultor se traslada a la plaza d
 el Mercado Municipal para celebrar esta festividad juntos. Además de mús
 ica y productos kilómetro cero\, se expondrán y venderán piezas de arte
 sanía.
ATTACH;FMTTYPE=image/jpeg:https://www.larevistadelapalma.com/wp-content/up
 loads/2023/10/Mercadillo-los-llanos-sanmartin.jpeg
CATEGORIES:Ferias y mercados,Fiestas populares,Otras propuestas
LOCATION:Avenida Doctor Fleming\, Los Llanos de Aridane\, Avenida Doctor Fl
 eming\, Los Llanos de Aridane\, 38760\, España
GEO:28.658918;-17.914166
X-APPLE-STRUCTURED-LOCATION;VALUE=URI;X-ADDRESS=Avenida Doctor Fleming\, Lo
 s Llanos de Aridane\, 38760\, España;X-APPLE-RADIUS=100;X-TITLE=Avenida D
 octor Fleming\, Los Llanos de Aridane:geo:28.658918,-17.914166
END:VEVENT
END:VCALENDARBEGIN:VCALENDAR
VERSION:2.0
PRODID:-//wp-events-plugin.com//7.2.3.1//EN
TZID:Europe/London
X-WR-TIMEZONE:Europe/London
BEGIN:VEVENT
UID:716@larevistadelapalma.com
DTSTART:20231112T070000Z
DTEND:20231112T121500Z
DTSTAMP:20231108T182657Z
URL:https://www.larevistadelapalma.com/events/mercadillo-del-agricultor-de
 -los-llanos-de-aridane-2023-11-12/
SUMMARY:Edición especial San Martín en el Mercadillo de Los Llanos de Ari
 dane
DESCRIPTION:El mercadillo se lleva a cabo cada domingo\, ahora con actuacio
 nes de música en vivo.\nEl Ayuntamiento de Los Llanos de Aridane organiza
  la celebración de San Martín en la Plaza del Mercado este domingo\, 12 
 de noviembre. A partir de las 11:00 horas\, el lugar estará animado con m
 úsica en vivo de la mano de Parranda La Era\, al tiempo que se repartirá
 n vino y castañas.\n\nLa concejala de Desarrollo Local y Comercio\, Veró
 nica González\, recuerda que\, como es tradicional\, el domingo de la sem
 ana de San Martín\, el mercadillo del agricultor se traslada a la plaza d
 el Mercado Municipal para celebrar esta festividad juntos. Además de mús
 ica y productos kilómetro cero\, se expondrán y venderán piezas de arte
 sanía.
ATTACH;FMTTYPE=image/jpeg:https://www.larevistadelapalma.com/wp-content/up
 loads/2023/10/Mercadillo-los-llanos-sanmartin.jpeg
CATEGORIES:Ferias y mercados,Fiestas populares,Otras propuestas
LOCATION:Avenida Doctor Fleming\, Los Llanos de Aridane\, Avenida Doctor Fl
 eming\, Los Llanos de Aridane\, 38760\, España
GEO:28.658918;-17.914166
X-APPLE-STRUCTURED-LOCATION;VALUE=URI;X-ADDRESS=Avenida Doctor Fleming\, Lo
 s Llanos de Aridane\, 38760\, España;X-APPLE-RADIUS=100;X-TITLE=Avenida D
 octor Fleming\, Los Llanos de Aridane:geo:28.658918,-17.914166
END:VEVENT
END:VCALENDAR