BEGIN:VCALENDAR
VERSION:2.0
PRODID:-//wp-events-plugin.com//7.2.3.1//EN
TZID:Europe/London
X-WR-TIMEZONE:Europe/London
BEGIN:VEVENT
UID:468@larevistadelapalma.com
DTSTART;VALUE=DATE:20230827
DTEND;VALUE=DATE:20230828
DTSTAMP:20230817T164242Z
URL:https://www.larevistadelapalma.com/events/mercadillo-del-agricultor-de
 -puntagorda-2023-08-27/
SUMMARY:Mercadillo del Agricultor de Puntagorda
DESCRIPTION:El 26 y 27 de agosto el Mercadillo celebra su 21 aniversario co
 n varias actividades.\nSábados de 15:00 a 19:00 h y domingos de 11:00 a 1
 5:00 h
ATTACH;FMTTYPE=image/jpeg:https://www.larevistadelapalma.com/wp-content/up
 loads/2023/06/Aniveersario-Mercadillo-de-PUntagorda.jpg
CATEGORIES:Ferias y mercados,Otras propuestas
LOCATION:Mercadillo de Puntagorda\, Cno. el Pinar\, 56A\, Puntagorda\, 3878
 9 \, España
GEO:28.778862;-17.973843
X-APPLE-STRUCTURED-LOCATION;VALUE=URI;X-ADDRESS=Cno. el Pinar\, 56A\, Punta
 gorda\, 38789 \, España;X-APPLE-RADIUS=100;X-TITLE=Mercadillo de Puntagor
 da:geo:28.778862,-17.973843
END:VEVENT
END:VCALENDARBEGIN:VCALENDAR
VERSION:2.0
PRODID:-//wp-events-plugin.com//7.2.3.1//EN
TZID:Europe/London
X-WR-TIMEZONE:Europe/London
BEGIN:VEVENT
UID:468@larevistadelapalma.com
DTSTART;VALUE=DATE:20230827
DTEND;VALUE=DATE:20230828
DTSTAMP:20230817T164242Z
URL:https://www.larevistadelapalma.com/events/mercadillo-del-agricultor-de
 -puntagorda-2023-08-27/
SUMMARY:Mercadillo del Agricultor de Puntagorda
DESCRIPTION:El 26 y 27 de agosto el Mercadillo celebra su 21 aniversario co
 n varias actividades.\nSábados de 15:00 a 19:00 h y domingos de 11:00 a 1
 5:00 h
ATTACH;FMTTYPE=image/jpeg:https://www.larevistadelapalma.com/wp-content/up
 loads/2023/06/Aniveersario-Mercadillo-de-PUntagorda.jpg
CATEGORIES:Ferias y mercados,Otras propuestas
LOCATION:Mercadillo de Puntagorda\, Cno. el Pinar\, 56A\, Puntagorda\, 3878
 9 \, España
GEO:28.778862;-17.973843
X-APPLE-STRUCTURED-LOCATION;VALUE=URI;X-ADDRESS=Cno. el Pinar\, 56A\, Punta
 gorda\, 38789 \, España;X-APPLE-RADIUS=100;X-TITLE=Mercadillo de Puntagor
 da:geo:28.778862,-17.973843
END:VEVENT
END:VCALENDAR