BEGIN:VCALENDAR
VERSION:2.0
PRODID:-//wp-events-plugin.com//7.2.3.1//EN
TZID:Europe/London
X-WR-TIMEZONE:Europe/London
BEGIN:VEVENT
UID:609@larevistadelapalma.com
DTSTART:20230812T090000Z
DTEND:20230812T124500Z
DTSTAMP:20230811T115516Z
URL:https://www.larevistadelapalma.com/events/mercadillo-en-fuencaliente/
SUMMARY:SUSPENDIDO - Mercadillo en Fuencaliente
DESCRIPTION:Nueva edición del Mercadillo de Artesanía. Desde las 10:00 h
 oras en la Plaza Minerva.
ATTACH;FMTTYPE=image/jpeg:https://www.larevistadelapalma.com/wp-content/up
 loads/2023/08/Mrcadillo-Fuencaliente.jpg
CATEGORIES:Ferias y mercados,Otras propuestas
LOCATION:Plaza Minerva\, Fuencaliente\, Plaza Minerva\, s/n\, Los Canarios\
 , Fuencaliente\,  38740\, España
GEO:28.492906;-17.844799
X-APPLE-STRUCTURED-LOCATION;VALUE=URI;X-ADDRESS=Plaza Minerva\, s/n\, Los C
 anarios\, Fuencaliente\,  38740\, España;X-APPLE-RADIUS=100;X-TITLE=Plaza
  Minerva\, Fuencaliente:geo:28.492906,-17.844799
END:VEVENT
END:VCALENDARBEGIN:VCALENDAR
VERSION:2.0
PRODID:-//wp-events-plugin.com//7.2.3.1//EN
TZID:Europe/London
X-WR-TIMEZONE:Europe/London
BEGIN:VEVENT
UID:609@larevistadelapalma.com
DTSTART:20230812T090000Z
DTEND:20230812T124500Z
DTSTAMP:20230811T115516Z
URL:https://www.larevistadelapalma.com/events/mercadillo-en-fuencaliente/
SUMMARY:SUSPENDIDO - Mercadillo en Fuencaliente
DESCRIPTION:Nueva edición del Mercadillo de Artesanía. Desde las 10:00 h
 oras en la Plaza Minerva.
ATTACH;FMTTYPE=image/jpeg:https://www.larevistadelapalma.com/wp-content/up
 loads/2023/08/Mrcadillo-Fuencaliente.jpg
CATEGORIES:Ferias y mercados,Otras propuestas
LOCATION:Plaza Minerva\, Fuencaliente\, Plaza Minerva\, s/n\, Los Canarios\
 , Fuencaliente\,  38740\, España
GEO:28.492906;-17.844799
X-APPLE-STRUCTURED-LOCATION;VALUE=URI;X-ADDRESS=Plaza Minerva\, s/n\, Los C
 anarios\, Fuencaliente\,  38740\, España;X-APPLE-RADIUS=100;X-TITLE=Plaza
  Minerva\, Fuencaliente:geo:28.492906,-17.844799
END:VEVENT
END:VCALENDAR