BEGIN:VCALENDAR
VERSION:2.0
PRODID:-//wp-events-plugin.com//7.2.3.1//EN
TZID:Europe/London
X-WR-TIMEZONE:Europe/London
BEGIN:VEVENT
UID:3615@larevistadelapalma.com
DTSTART:20250302T090000Z
DTEND:20250302T130000Z
DTSTAMP:20250302T135056Z
URL:https://www.larevistadelapalma.com/events/mercadillo-especial-indianos
 -en-barlovento/
SUMMARY:SUSPENDIDO -Mercadillo especial Indianos en Barlovento
DESCRIPTION:\n\n 	El Ayuntamiento de Barlovento informa que se suspende el 
 Mercadillo previsto para este domingo 2 de marzo por previsión de fenóme
 nos meteorológicos adversos.\n\nEl Mercadillo de Barlovento\, el próximo
  domingo 2 de marzo\, estará dedicado a la fiesta de Los Indianos.\n\n\n\
 n 	Actuación musical de "Son de Almizcle".\n 	Elaboración de puros en vi
 vo con maridaje de Ron Aldea.\n 	Animación infantil y atracciones hinchab
 les.\n 	Reparto de polvos talco.\n
ATTACH;FMTTYPE=image/jpeg:https://www.larevistadelapalma.com/wp-content/up
 loads/2025/02/Mercadillo-Barlovento-Indianos.jpg
CATEGORIES:Ferias y mercados,Otras propuestas
LOCATION:Mercadillo de Barlovento\, Plaza Ntra. Sra. Rosario\, 1\, Barloven
 to\, 38726\, España
GEO:28.829323;-17.803327
X-APPLE-STRUCTURED-LOCATION;VALUE=URI;X-ADDRESS=Plaza Ntra. Sra. Rosario\, 
 1\, Barlovento\, 38726\, España;X-APPLE-RADIUS=100;X-TITLE=Mercadillo de 
 Barlovento:geo:28.829323,-17.803327
END:VEVENT
END:VCALENDARBEGIN:VCALENDAR
VERSION:2.0
PRODID:-//wp-events-plugin.com//7.2.3.1//EN
TZID:Europe/London
X-WR-TIMEZONE:Europe/London
BEGIN:VEVENT
UID:3615@larevistadelapalma.com
DTSTART:20250302T090000Z
DTEND:20250302T130000Z
DTSTAMP:20250302T135056Z
URL:https://www.larevistadelapalma.com/events/mercadillo-especial-indianos
 -en-barlovento/
SUMMARY:SUSPENDIDO -Mercadillo especial Indianos en Barlovento
DESCRIPTION:\n\n 	El Ayuntamiento de Barlovento informa que se suspende el 
 Mercadillo previsto para este domingo 2 de marzo por previsión de fenóme
 nos meteorológicos adversos.\n\nEl Mercadillo de Barlovento\, el próximo
  domingo 2 de marzo\, estará dedicado a la fiesta de Los Indianos.\n\n\n\
 n 	Actuación musical de "Son de Almizcle".\n 	Elaboración de puros en vi
 vo con maridaje de Ron Aldea.\n 	Animación infantil y atracciones hinchab
 les.\n 	Reparto de polvos talco.\n
ATTACH;FMTTYPE=image/jpeg:https://www.larevistadelapalma.com/wp-content/up
 loads/2025/02/Mercadillo-Barlovento-Indianos.jpg
CATEGORIES:Ferias y mercados,Otras propuestas
LOCATION:Mercadillo de Barlovento\, Plaza Ntra. Sra. Rosario\, 1\, Barloven
 to\, 38726\, España
GEO:28.829323;-17.803327
X-APPLE-STRUCTURED-LOCATION;VALUE=URI;X-ADDRESS=Plaza Ntra. Sra. Rosario\, 
 1\, Barlovento\, 38726\, España;X-APPLE-RADIUS=100;X-TITLE=Mercadillo de 
 Barlovento:geo:28.829323,-17.803327
END:VEVENT
END:VCALENDAR