BEGIN:VCALENDAR
VERSION:2.0
PRODID:-//wp-events-plugin.com//7.2.3.1//EN
TZID:Europe/London
X-WR-TIMEZONE:Europe/London
BEGIN:VEVENT
UID:3585@larevistadelapalma.com
DTSTART:20250215T100000Z
DTEND:20250215T140000Z
DTSTAMP:20250205T124320Z
URL:https://www.larevistadelapalma.com/events/mercadillo-especial-san-vale
 ntin-en-garafia/
SUMMARY:Mercadillo especial San Valentín en Garafía
DESCRIPTION:Productos locales\, artesanía y actividades especiales para es
 ta edición dedicada a San Valentín.\n\nParticiparán las artesanas:\n\n 
 	Cristina García.\n 	Isabel Gutiérrez.\n 	Elva Castro.\n 	Zenaida Sánch
 ez.\n 	Gregoria Brito.\n\nActividades:\n\n 	Buzón del Amor (11:00 - 13:00
 )\n 	Taller infantil de corazones con Mumy Rubio (11:30)\n 	Actuación de 
 Parranda La Laja (12:00)\n
ATTACH;FMTTYPE=image/jpeg:https://www.larevistadelapalma.com/wp-content/up
 loads/2025/02/Mercadillo-2.jpg
CATEGORIES:Ferias y mercados,Otras propuestas
LOCATION:Centro de Promoción Agraria de Garafía\, San Antonio del Monte. 
 \, Villa de Garafía\, 38728\, España
GEO:28.790649;-17.917631
X-APPLE-STRUCTURED-LOCATION;VALUE=URI;X-ADDRESS=San Antonio del Monte. \, V
 illa de Garafía\, 38728\, España;X-APPLE-RADIUS=100;X-TITLE=Centro de Pr
 omoción Agraria de Garafía:geo:28.790649,-17.917631
END:VEVENT
END:VCALENDARBEGIN:VCALENDAR
VERSION:2.0
PRODID:-//wp-events-plugin.com//7.2.3.1//EN
TZID:Europe/London
X-WR-TIMEZONE:Europe/London
BEGIN:VEVENT
UID:3585@larevistadelapalma.com
DTSTART:20250215T100000Z
DTEND:20250215T140000Z
DTSTAMP:20250205T124320Z
URL:https://www.larevistadelapalma.com/events/mercadillo-especial-san-vale
 ntin-en-garafia/
SUMMARY:Mercadillo especial San Valentín en Garafía
DESCRIPTION:Productos locales\, artesanía y actividades especiales para es
 ta edición dedicada a San Valentín.\n\nParticiparán las artesanas:\n\n 
 	Cristina García.\n 	Isabel Gutiérrez.\n 	Elva Castro.\n 	Zenaida Sánch
 ez.\n 	Gregoria Brito.\n\nActividades:\n\n 	Buzón del Amor (11:00 - 13:00
 )\n 	Taller infantil de corazones con Mumy Rubio (11:30)\n 	Actuación de 
 Parranda La Laja (12:00)\n
ATTACH;FMTTYPE=image/jpeg:https://www.larevistadelapalma.com/wp-content/up
 loads/2025/02/Mercadillo-2.jpg
CATEGORIES:Ferias y mercados,Otras propuestas
LOCATION:Centro de Promoción Agraria de Garafía\, San Antonio del Monte. 
 \, Villa de Garafía\, 38728\, España
GEO:28.790649;-17.917631
X-APPLE-STRUCTURED-LOCATION;VALUE=URI;X-ADDRESS=San Antonio del Monte. \, V
 illa de Garafía\, 38728\, España;X-APPLE-RADIUS=100;X-TITLE=Centro de Pr
 omoción Agraria de Garafía:geo:28.790649,-17.917631
END:VEVENT
END:VCALENDAR