BEGIN:VCALENDAR
VERSION:2.0
PRODID:-//wp-events-plugin.com//7.2.3.1//EN
TZID:Europe/London
X-WR-TIMEZONE:Europe/London
BEGIN:VEVENT
UID:4100@larevistadelapalma.com
DTSTART:20251212T080000Z
DTEND:20251212T200000Z
DTSTAMP:20251212T162130Z
URL:https://www.larevistadelapalma.com/events/mercadillo-navideno-de-la-es
 cuela-de-arte/
SUMMARY:CANCELADO - Mercadillo navideño de la Escuela de Arte
DESCRIPTION:\nA causa de condiciones meteorológicas adversas\, SE CANCELA 
 el mercadillo que se iba a celebrar este viernes 12 de diciembre\, de 9:00
  a 21:00\, La Pérgola de Santa Cruz de La Palma.\nEl Alumnado de la Escue
 la de Arte Manolo Blahnik presenta sus creaciones: ilustración\, obra gr
 áfica\, joyería\, textil y muchas piezas únicas ideales para regalar ar
 te estas navidades.\n\n\n\nUna oportunidad para apoyar la creatividad loca
 l y llevarte algo hecho en La Palma\, con cariño y oficio.\n\n
ATTACH;FMTTYPE=image/jpeg:https://www.larevistadelapalma.com/wp-content/up
 loads/2025/12/Mercadillo-de-arte.jpg
CATEGORIES:Ferias y mercados,Otras propuestas
LOCATION:Calle Apurón\, Santa Cruz de La Palma\, Calle Apurón\, Santa Cru
 z De La Palma\, Santa Cruz de Tenerife\, 38700\, España
GEO:28.682389;-17.765387
X-APPLE-STRUCTURED-LOCATION;VALUE=URI;X-ADDRESS=Calle Apurón\, Santa Cruz 
 De La Palma\, Santa Cruz de Tenerife\, 38700\, España;X-APPLE-RADIUS=100;
 X-TITLE=Calle Apurón\, Santa Cruz de La Palma:geo:28.682389,-17.765387
END:VEVENT
END:VCALENDARBEGIN:VCALENDAR
VERSION:2.0
PRODID:-//wp-events-plugin.com//7.2.3.1//EN
TZID:Europe/London
X-WR-TIMEZONE:Europe/London
BEGIN:VEVENT
UID:4100@larevistadelapalma.com
DTSTART:20251212T080000Z
DTEND:20251212T200000Z
DTSTAMP:20251212T162130Z
URL:https://www.larevistadelapalma.com/events/mercadillo-navideno-de-la-es
 cuela-de-arte/
SUMMARY:CANCELADO - Mercadillo navideño de la Escuela de Arte
DESCRIPTION:\nA causa de condiciones meteorológicas adversas\, SE CANCELA 
 el mercadillo que se iba a celebrar este viernes 12 de diciembre\, de 9:00
  a 21:00\, La Pérgola de Santa Cruz de La Palma.\nEl Alumnado de la Escue
 la de Arte Manolo Blahnik presenta sus creaciones: ilustración\, obra gr
 áfica\, joyería\, textil y muchas piezas únicas ideales para regalar ar
 te estas navidades.\n\n\n\nUna oportunidad para apoyar la creatividad loca
 l y llevarte algo hecho en La Palma\, con cariño y oficio.\n\n
ATTACH;FMTTYPE=image/jpeg:https://www.larevistadelapalma.com/wp-content/up
 loads/2025/12/Mercadillo-de-arte.jpg
CATEGORIES:Ferias y mercados,Otras propuestas
LOCATION:Calle Apurón\, Santa Cruz de La Palma\, Calle Apurón\, Santa Cru
 z De La Palma\, Santa Cruz de Tenerife\, 38700\, España
GEO:28.682389;-17.765387
X-APPLE-STRUCTURED-LOCATION;VALUE=URI;X-ADDRESS=Calle Apurón\, Santa Cruz 
 De La Palma\, Santa Cruz de Tenerife\, 38700\, España;X-APPLE-RADIUS=100;
 X-TITLE=Calle Apurón\, Santa Cruz de La Palma:geo:28.682389,-17.765387
END:VEVENT
END:VCALENDAR