BEGIN:VCALENDAR
VERSION:2.0
PRODID:-//wp-events-plugin.com//7.2.3.1//EN
TZID:Europe/London
X-WR-TIMEZONE:Europe/London
BEGIN:VEVENT
UID:240@larevistadelapalma.com
DTSTART:20230806T090000Z
DTEND:20230806T130000Z
DTSTAMP:20230721T191507Z
URL:https://www.larevistadelapalma.com/events/mercadillo-rastro-de-santa-c
 ruz-de-la-palma-2-2023-08-06/
SUMMARY:Mercadillo Rastro de Santa Cruz de La Palma
DESCRIPTION:El primer y tercer domingo de cada mes tiene lugar en la plaza 
 de La Alameda el rastro en el que confluyen comerciantes de toda la isla y
  en el que es posible adquirir a precios económicos todo tipo de producto
 s de alimentación\, plantas\, ropa\, bisutería\, elementos decorativos\,
  etc
ATTACH;FMTTYPE=image/jpeg:https://www.larevistadelapalma.com/wp-content/up
 loads/2023/06/Mercadillo-Santa-Cruz-de-La-Palma.jpg
CATEGORIES:Ferias y mercados,Otras propuestas
LOCATION:Plaza de La Alameda\, Plaza de La Alameda\, Santa Cruz de La Palma
 \, 38700\, España
GEO:28.688148;-17.761123
X-APPLE-STRUCTURED-LOCATION;VALUE=URI;X-ADDRESS=Plaza de La Alameda\, Santa
  Cruz de La Palma\, 38700\, España;X-APPLE-RADIUS=100;X-TITLE=Plaza de La
  Alameda:geo:28.688148,-17.761123
END:VEVENT
END:VCALENDARBEGIN:VCALENDAR
VERSION:2.0
PRODID:-//wp-events-plugin.com//7.2.3.1//EN
TZID:Europe/London
X-WR-TIMEZONE:Europe/London
BEGIN:VEVENT
UID:240@larevistadelapalma.com
DTSTART:20230806T090000Z
DTEND:20230806T130000Z
DTSTAMP:20230721T191507Z
URL:https://www.larevistadelapalma.com/events/mercadillo-rastro-de-santa-c
 ruz-de-la-palma-2-2023-08-06/
SUMMARY:Mercadillo Rastro de Santa Cruz de La Palma
DESCRIPTION:El primer y tercer domingo de cada mes tiene lugar en la plaza 
 de La Alameda el rastro en el que confluyen comerciantes de toda la isla y
  en el que es posible adquirir a precios económicos todo tipo de producto
 s de alimentación\, plantas\, ropa\, bisutería\, elementos decorativos\,
  etc
ATTACH;FMTTYPE=image/jpeg:https://www.larevistadelapalma.com/wp-content/up
 loads/2023/06/Mercadillo-Santa-Cruz-de-La-Palma.jpg
CATEGORIES:Ferias y mercados,Otras propuestas
LOCATION:Plaza de La Alameda\, Plaza de La Alameda\, Santa Cruz de La Palma
 \, 38700\, España
GEO:28.688148;-17.761123
X-APPLE-STRUCTURED-LOCATION;VALUE=URI;X-ADDRESS=Plaza de La Alameda\, Santa
  Cruz de La Palma\, 38700\, España;X-APPLE-RADIUS=100;X-TITLE=Plaza de La
  Alameda:geo:28.688148,-17.761123
END:VEVENT
END:VCALENDAR