BEGIN:VCALENDAR
VERSION:2.0
PRODID:-//wp-events-plugin.com//7.2.3.1//EN
TZID:Europe/London
X-WR-TIMEZONE:Europe/London
BEGIN:VEVENT
UID:250@larevistadelapalma.com
DTSTART:20230723T090000Z
DTEND:20230723T130000Z
DTSTAMP:20230721T193013Z
URL:https://www.larevistadelapalma.com/events/mercadillo-rastro-de-santa-c
 ruz-de-la-palma-2023-07-23/
SUMMARY:Mercadillo Rastro de Santa Cruz de La Palma
DESCRIPTION:El Mercadillo aplazado del fin de semana pasado\, debido al inc
 endio en Puntagorda\,  se organiza el domingo 23 de julio.
ATTACH;FMTTYPE=image/jpeg:https://www.larevistadelapalma.com/wp-content/up
 loads/2023/07/Mercadillo-Santa-Cruz-de-La-Palma.jpg
CATEGORIES:Ferias y mercados,Otras propuestas
LOCATION:Plaza de La Alameda\, Plaza de La Alameda\, Santa Cruz de La Palma
 \, 38700\, España
GEO:28.688148;-17.761123
X-APPLE-STRUCTURED-LOCATION;VALUE=URI;X-ADDRESS=Plaza de La Alameda\, Santa
  Cruz de La Palma\, 38700\, España;X-APPLE-RADIUS=100;X-TITLE=Plaza de La
  Alameda:geo:28.688148,-17.761123
END:VEVENT
END:VCALENDARBEGIN:VCALENDAR
VERSION:2.0
PRODID:-//wp-events-plugin.com//7.2.3.1//EN
TZID:Europe/London
X-WR-TIMEZONE:Europe/London
BEGIN:VEVENT
UID:250@larevistadelapalma.com
DTSTART:20230723T090000Z
DTEND:20230723T130000Z
DTSTAMP:20230721T193013Z
URL:https://www.larevistadelapalma.com/events/mercadillo-rastro-de-santa-c
 ruz-de-la-palma-2023-07-23/
SUMMARY:Mercadillo Rastro de Santa Cruz de La Palma
DESCRIPTION:El Mercadillo aplazado del fin de semana pasado\, debido al inc
 endio en Puntagorda\,  se organiza el domingo 23 de julio.
ATTACH;FMTTYPE=image/jpeg:https://www.larevistadelapalma.com/wp-content/up
 loads/2023/07/Mercadillo-Santa-Cruz-de-La-Palma.jpg
CATEGORIES:Ferias y mercados,Otras propuestas
LOCATION:Plaza de La Alameda\, Plaza de La Alameda\, Santa Cruz de La Palma
 \, 38700\, España
GEO:28.688148;-17.761123
X-APPLE-STRUCTURED-LOCATION;VALUE=URI;X-ADDRESS=Plaza de La Alameda\, Santa
  Cruz de La Palma\, 38700\, España;X-APPLE-RADIUS=100;X-TITLE=Plaza de La
  Alameda:geo:28.688148,-17.761123
END:VEVENT
END:VCALENDAR