BEGIN:VCALENDAR
VERSION:2.0
PRODID:-//wp-events-plugin.com//7.2.3.1//EN
TZID:Europe/London
X-WR-TIMEZONE:Europe/London
BEGIN:VEVENT
UID:3@larevistadelapalma.com
DTSTART:20230617T090000Z
DTEND:20230617T130000Z
DTSTAMP:20230627T125325Z
URL:https://www.larevistadelapalma.com/events/mercadillo-rastro-de-santa-c
 ruz-de-la-palma/
SUMMARY:Mercadillo Rastro de Santa Cruz de La Palma
DESCRIPTION:Mercadillo  el primer y tercer domingo de cada mes.
ATTACH;FMTTYPE=image/jpeg:https://www.larevistadelapalma.com/wp-content/up
 loads/2023/06/Mercadillo-Santa-Cruz-de-La-Palma.jpg
CATEGORIES:Ferias y mercados
LOCATION:Plaza de La Alameda\, Plaza de La Alameda.\, Santa Cruz de La Palm
 a.\, España
X-APPLE-STRUCTURED-LOCATION;VALUE=URI;X-ADDRESS=Plaza de La Alameda.\, Sant
 a Cruz de La Palma.\, España;X-APPLE-RADIUS=100;X-TITLE=Plaza de La Alame
 da:geo:0,0
END:VEVENT
END:VCALENDARBEGIN:VCALENDAR
VERSION:2.0
PRODID:-//wp-events-plugin.com//7.2.3.1//EN
TZID:Europe/London
X-WR-TIMEZONE:Europe/London
BEGIN:VEVENT
UID:3@larevistadelapalma.com
DTSTART:20230617T090000Z
DTEND:20230617T130000Z
DTSTAMP:20230627T125325Z
URL:https://www.larevistadelapalma.com/events/mercadillo-rastro-de-santa-c
 ruz-de-la-palma/
SUMMARY:Mercadillo Rastro de Santa Cruz de La Palma
DESCRIPTION:Mercadillo  el primer y tercer domingo de cada mes.
ATTACH;FMTTYPE=image/jpeg:https://www.larevistadelapalma.com/wp-content/up
 loads/2023/06/Mercadillo-Santa-Cruz-de-La-Palma.jpg
CATEGORIES:Ferias y mercados
LOCATION:Plaza de La Alameda\, Plaza de La Alameda.\, Santa Cruz de La Palm
 a.\, España
X-APPLE-STRUCTURED-LOCATION;VALUE=URI;X-ADDRESS=Plaza de La Alameda.\, Sant
 a Cruz de La Palma.\, España;X-APPLE-RADIUS=100;X-TITLE=Plaza de La Alame
 da:geo:0,0
END:VEVENT
END:VCALENDAR