BEGIN:VCALENDAR
VERSION:2.0
PRODID:-//wp-events-plugin.com//7.2.3.1//EN
TZID:Europe/London
X-WR-TIMEZONE:Europe/London
BEGIN:VEVENT
UID:3440@larevistadelapalma.com
DTSTART;VALUE=DATE:20241213
DTEND;VALUE=DATE:20241216
DTSTAMP:20241215T011559Z
URL:https://www.larevistadelapalma.com/events/mercado-navideno-en-tijarafe
 /
SUMMARY:CANCELADO DOMINGO - Mercado navideño en Tijarafe
DESCRIPTION:Con actuaciones musicales\, DJ\, zona gastro\, talleres y entre
 tenimiento para los peques de la casa.
ATTACH;FMTTYPE=image/jpeg:https://www.larevistadelapalma.com/wp-content/up
 loads/2024/11/Mercado-navideno-tijarafe.jpg
CATEGORIES:Ferias y mercados,Gastro,Otras propuestas
LOCATION:Plaza Candelaria en Tijarafe\, Plaza de La Candelaria \, Tijarafe\
 , 38780\, España
GEO:28.711392;-17.955151
X-APPLE-STRUCTURED-LOCATION;VALUE=URI;X-ADDRESS=Plaza de La Candelaria \, T
 ijarafe\, 38780\, España;X-APPLE-RADIUS=100;X-TITLE=Plaza Candelaria en T
 ijarafe:geo:28.711392,-17.955151
END:VEVENT
END:VCALENDARBEGIN:VCALENDAR
VERSION:2.0
PRODID:-//wp-events-plugin.com//7.2.3.1//EN
TZID:Europe/London
X-WR-TIMEZONE:Europe/London
BEGIN:VEVENT
UID:3440@larevistadelapalma.com
DTSTART;VALUE=DATE:20241213
DTEND;VALUE=DATE:20241216
DTSTAMP:20241215T011559Z
URL:https://www.larevistadelapalma.com/events/mercado-navideno-en-tijarafe
 /
SUMMARY:CANCELADO DOMINGO - Mercado navideño en Tijarafe
DESCRIPTION:Con actuaciones musicales\, DJ\, zona gastro\, talleres y entre
 tenimiento para los peques de la casa.
ATTACH;FMTTYPE=image/jpeg:https://www.larevistadelapalma.com/wp-content/up
 loads/2024/11/Mercado-navideno-tijarafe.jpg
CATEGORIES:Ferias y mercados,Gastro,Otras propuestas
LOCATION:Plaza Candelaria en Tijarafe\, Plaza de La Candelaria \, Tijarafe\
 , 38780\, España
GEO:28.711392;-17.955151
X-APPLE-STRUCTURED-LOCATION;VALUE=URI;X-ADDRESS=Plaza de La Candelaria \, T
 ijarafe\, 38780\, España;X-APPLE-RADIUS=100;X-TITLE=Plaza Candelaria en T
 ijarafe:geo:28.711392,-17.955151
END:VEVENT
END:VCALENDAR