BEGIN:VCALENDAR
VERSION:2.0
PRODID:-//wp-events-plugin.com//7.2.3.1//EN
TZID:Europe/London
X-WR-TIMEZONE:Europe/London
BEGIN:VEVENT
UID:4083@larevistadelapalma.com
DTSTART;VALUE=DATE:20251204
DTEND;VALUE=DATE:20251208
DTSTAMP:20251201T165518Z
URL:https://www.larevistadelapalma.com/events/mercado-navideno-los-llanos-
 cuatro-dias-de-comercio-local-musica-y-talleres/
SUMMARY:Mercado Navideño Los Llanos: Cuatro días de comercio local\, mús
 ica y talleres
DESCRIPTION:El evento se celebrará del jueves al domingo en la plaza de Es
 paña.\n\nEl Ayuntamiento de Los Llanos de Aridane\, en colaboración con 
 la Asociación de Comerciantes Zona Abierta (ACZA) y la Zona Comercial Abi
 erta (ZCA)\, organiza una nueva edición del Mercado Navideño\, uno de lo
 s eventos más esperados del periodo festivo en el municipio.\n\nEn total\
 , quince comercios locales participan en este mercadillo\, que se desarrol
 la en la plaza de España del jueves 4 al domingo 7 de diciembre. La cita 
 reúne actividades para todos los públicos\, desde talleres y espectácul
 os hasta actuaciones musicales\, en un entorno que impulsa la visibilidad 
 y el consumo en el tejido comercial del municipio.\n\nLa concejala de Come
 rcio y Desarrollo Local\, Verónica González\, destaca el valor que tiene
  esta iniciativa para el sector local y para la propia campaña navideña.
  “La Navidad es una época ideal para el comercio\; nuestros establecimi
 entos tienen la oportunidad de promocionar sus productos en un entorno agr
 adable y hogareño\, pudiendo de esta manera impulsar su economía”\, a
 ñade.\n\nUn programa con actividades variadas\n\nLa inauguración tiene l
 ugar el jueves 4\, a las 17:00 horas\, y ese mismo día\, a las 20:00 hora
 s\, se celebra el monólogo de humor Pili soy yo.\n\n\n\nEl viernes 5 est
 á orientado al disfrute en familia. A las 12:00 horas se imparte un talle
 r de envolver regalos\, y a las 17:00 horas un taller de villancicos en le
 ngua de signos. La jornada concluye con un concierto de música navideña 
 a las 20:00 horas.\n\nEl sábado 6 y el domingo 7 mantienen la línea cult
 ural y creativa. El sábado arranca con un taller de centros de Navidad a 
 partir de las 11:00 horas\, seguido de un musical Disney a las 12:30 horas
 . La velada continuará con un taller de estampación de tarjetas navideñ
 as a las 17:00 horas y finalizará con la actuación del solista lírico V
 almes a las 20:00 horas.\n\nEl domingo pone el cierre a esta edición con 
 un taller de cuentacuentos de Navidad\, acompañado de manualidades y un v
 illancico infantil a las 12:00 horas\, completando una programación que i
 nvita a disfrutar de la Navidad en el corazón de Los Llanos de Aridane.
ATTACH;FMTTYPE=image/jpeg:https://www.larevistadelapalma.com/wp-content/up
 loads/2025/12/NP-Actividades-mercadillo-scaled.jpeg
CATEGORIES:Ferias y mercados,Otras propuestas
LOCATION:Plaza de España en Los Llanos de Aridane\, Plaza de España\, Los
  Llanos de Aridane\, 38760\, España
GEO:28.658934;-17.913174
X-APPLE-STRUCTURED-LOCATION;VALUE=URI;X-ADDRESS=Plaza de España\, Los Llan
 os de Aridane\, 38760\, España;X-APPLE-RADIUS=100;X-TITLE=Plaza de Españ
 a en Los Llanos de Aridane:geo:28.658934,-17.913174
END:VEVENT
END:VCALENDARBEGIN:VCALENDAR
VERSION:2.0
PRODID:-//wp-events-plugin.com//7.2.3.1//EN
TZID:Europe/London
X-WR-TIMEZONE:Europe/London
BEGIN:VEVENT
UID:4083@larevistadelapalma.com
DTSTART;VALUE=DATE:20251204
DTEND;VALUE=DATE:20251208
DTSTAMP:20251201T165518Z
URL:https://www.larevistadelapalma.com/events/mercado-navideno-los-llanos-
 cuatro-dias-de-comercio-local-musica-y-talleres/
SUMMARY:Mercado Navideño Los Llanos: Cuatro días de comercio local\, mús
 ica y talleres
DESCRIPTION:El evento se celebrará del jueves al domingo en la plaza de Es
 paña.\n\nEl Ayuntamiento de Los Llanos de Aridane\, en colaboración con 
 la Asociación de Comerciantes Zona Abierta (ACZA) y la Zona Comercial Abi
 erta (ZCA)\, organiza una nueva edición del Mercado Navideño\, uno de lo
 s eventos más esperados del periodo festivo en el municipio.\n\nEn total\
 , quince comercios locales participan en este mercadillo\, que se desarrol
 la en la plaza de España del jueves 4 al domingo 7 de diciembre. La cita 
 reúne actividades para todos los públicos\, desde talleres y espectácul
 os hasta actuaciones musicales\, en un entorno que impulsa la visibilidad 
 y el consumo en el tejido comercial del municipio.\n\nLa concejala de Come
 rcio y Desarrollo Local\, Verónica González\, destaca el valor que tiene
  esta iniciativa para el sector local y para la propia campaña navideña.
  “La Navidad es una época ideal para el comercio\; nuestros establecimi
 entos tienen la oportunidad de promocionar sus productos en un entorno agr
 adable y hogareño\, pudiendo de esta manera impulsar su economía”\, a
 ñade.\n\nUn programa con actividades variadas\n\nLa inauguración tiene l
 ugar el jueves 4\, a las 17:00 horas\, y ese mismo día\, a las 20:00 hora
 s\, se celebra el monólogo de humor Pili soy yo.\n\n\n\nEl viernes 5 est
 á orientado al disfrute en familia. A las 12:00 horas se imparte un talle
 r de envolver regalos\, y a las 17:00 horas un taller de villancicos en le
 ngua de signos. La jornada concluye con un concierto de música navideña 
 a las 20:00 horas.\n\nEl sábado 6 y el domingo 7 mantienen la línea cult
 ural y creativa. El sábado arranca con un taller de centros de Navidad a 
 partir de las 11:00 horas\, seguido de un musical Disney a las 12:30 horas
 . La velada continuará con un taller de estampación de tarjetas navideñ
 as a las 17:00 horas y finalizará con la actuación del solista lírico V
 almes a las 20:00 horas.\n\nEl domingo pone el cierre a esta edición con 
 un taller de cuentacuentos de Navidad\, acompañado de manualidades y un v
 illancico infantil a las 12:00 horas\, completando una programación que i
 nvita a disfrutar de la Navidad en el corazón de Los Llanos de Aridane.
ATTACH;FMTTYPE=image/jpeg:https://www.larevistadelapalma.com/wp-content/up
 loads/2025/12/NP-Actividades-mercadillo-scaled.jpeg
CATEGORIES:Ferias y mercados,Otras propuestas
LOCATION:Plaza de España en Los Llanos de Aridane\, Plaza de España\, Los
  Llanos de Aridane\, 38760\, España
GEO:28.658934;-17.913174
X-APPLE-STRUCTURED-LOCATION;VALUE=URI;X-ADDRESS=Plaza de España\, Los Llan
 os de Aridane\, 38760\, España;X-APPLE-RADIUS=100;X-TITLE=Plaza de Españ
 a en Los Llanos de Aridane:geo:28.658934,-17.913174
END:VEVENT
END:VCALENDAR