BEGIN:VCALENDAR
VERSION:2.0
PRODID:-//wp-events-plugin.com//7.2.3.1//EN
TZID:Europe/London
X-WR-TIMEZONE:Europe/London
BEGIN:VEVENT
UID:3019@larevistadelapalma.com
DTSTART:20240607T193000Z
DTEND:20240607T210000Z
DTSTAMP:20240528T184840Z
URL:https://www.larevistadelapalma.com/events/michelle-una-comedia-muy-ser
 ia/
SUMMARY:"Michelle"\, una comedia muy seria
DESCRIPTION:Nominada a los Premios Réplica en las categorías de mejor esp
 ectáculo\, mejor dirección\, mejor autoría y mejor interpretación.\nPr
 oducida por Ángulo Producciones y escrita y dirigida por el dramaturgo Lu
 is O’Malley.  \n\n“El abogado Maurice Quevedo está en su despacho co
 n una pistola en la mano a punto de quitarse la vida. En ese momento toca 
 la puerta un personaje muy peculiar que no tiene nombre porque no ha hecho
  falta. De forma delirante Quevedo termina trabajando para este personaje 
 que ha decidido denunciar a las Naciones Unidas por lo que él opina es un
 a falta de respeto a su persona”. Así empieza esta comedia que casi roz
 a el absurdo. Dos personajes luchan contra la impotencia\, contra sus prop
 ios miedos y complejos y contra el destino inalterable.\n\nMichelle comenz
 ó siendo un texto escrito por placer\, que se convirtió en una realidad\
 , con la producción de Raúl Morán (Ángulo Producciones)\nComprar entra
 das &gt\;&gt\;\n\n\nMingo Ruano y José Luis Massó le han dado vida a los
  personajes de esta obra a través de una gran interpretación. Mingo Ruan
 o se sumerge en la piel de Maurice Quevedo un abogado de éxito\, que est
 á pasando por un difícil momento personal\, mientras que José Luis Mass
 ó interpreta a un personaje muy peculiar. Además\, en esta comedia han t
 rabajado en la iluminación Rafa Morán y como constructor de escenografí
 a Mangoly.\n\n\n\n&nbsp\;
ATTACH;FMTTYPE=image/jpeg:https://www.larevistadelapalma.com/wp-content/up
 loads/2024/05/Michelle-una-comedia-muy-seria-1.jpg
CATEGORIES:Espectáculos,Teatro
LOCATION:Teatro Circo de Marte\, Calle Virgen de La Luz\, 5\, Santa Cruz de
  La Palma\, 38700\, España
GEO:28.682989;-17.765755
X-APPLE-STRUCTURED-LOCATION;VALUE=URI;X-ADDRESS=Calle Virgen de La Luz\, 5\
 , Santa Cruz de La Palma\, 38700\, España;X-APPLE-RADIUS=100;X-TITLE=Teat
 ro Circo de Marte:geo:28.682989,-17.765755
END:VEVENT
END:VCALENDARBEGIN:VCALENDAR
VERSION:2.0
PRODID:-//wp-events-plugin.com//7.2.3.1//EN
TZID:Europe/London
X-WR-TIMEZONE:Europe/London
BEGIN:VEVENT
UID:3019@larevistadelapalma.com
DTSTART:20240607T193000Z
DTEND:20240607T210000Z
DTSTAMP:20240528T184840Z
URL:https://www.larevistadelapalma.com/events/michelle-una-comedia-muy-ser
 ia/
SUMMARY:"Michelle"\, una comedia muy seria
DESCRIPTION:Nominada a los Premios Réplica en las categorías de mejor esp
 ectáculo\, mejor dirección\, mejor autoría y mejor interpretación.\nPr
 oducida por Ángulo Producciones y escrita y dirigida por el dramaturgo Lu
 is O’Malley.  \n\n“El abogado Maurice Quevedo está en su despacho co
 n una pistola en la mano a punto de quitarse la vida. En ese momento toca 
 la puerta un personaje muy peculiar que no tiene nombre porque no ha hecho
  falta. De forma delirante Quevedo termina trabajando para este personaje 
 que ha decidido denunciar a las Naciones Unidas por lo que él opina es un
 a falta de respeto a su persona”. Así empieza esta comedia que casi roz
 a el absurdo. Dos personajes luchan contra la impotencia\, contra sus prop
 ios miedos y complejos y contra el destino inalterable.\n\nMichelle comenz
 ó siendo un texto escrito por placer\, que se convirtió en una realidad\
 , con la producción de Raúl Morán (Ángulo Producciones)\nComprar entra
 das &gt\;&gt\;\n\n\nMingo Ruano y José Luis Massó le han dado vida a los
  personajes de esta obra a través de una gran interpretación. Mingo Ruan
 o se sumerge en la piel de Maurice Quevedo un abogado de éxito\, que est
 á pasando por un difícil momento personal\, mientras que José Luis Mass
 ó interpreta a un personaje muy peculiar. Además\, en esta comedia han t
 rabajado en la iluminación Rafa Morán y como constructor de escenografí
 a Mangoly.\n\n\n\n&nbsp\;
ATTACH;FMTTYPE=image/jpeg:https://www.larevistadelapalma.com/wp-content/up
 loads/2024/05/Michelle-una-comedia-muy-seria-1.jpg
CATEGORIES:Espectáculos,Teatro
LOCATION:Teatro Circo de Marte\, Calle Virgen de La Luz\, 5\, Santa Cruz de
  La Palma\, 38700\, España
GEO:28.682989;-17.765755
X-APPLE-STRUCTURED-LOCATION;VALUE=URI;X-ADDRESS=Calle Virgen de La Luz\, 5\
 , Santa Cruz de La Palma\, 38700\, España;X-APPLE-RADIUS=100;X-TITLE=Teat
 ro Circo de Marte:geo:28.682989,-17.765755
END:VEVENT
END:VCALENDAR