BEGIN:VCALENDAR
VERSION:2.0
PRODID:-//wp-events-plugin.com//7.2.3.1//EN
TZID:Europe/London
X-WR-TIMEZONE:Europe/London
BEGIN:VEVENT
UID:164@larevistadelapalma.com
DTSTART:20230720T193000Z
DTEND:20230720T210000Z
DTSTAMP:20230719T104131Z
URL:https://www.larevistadelapalma.com/events/microzarzuela-el-pasajero-im
 pertinente/
SUMMARY:Estreno de la microzarzuela "El pasajero impertinente"
DESCRIPTION:Enmarcado en el IX Festival de Música Española y Zarzuela de 
 La Palma. Estreno de la microzarzuela "El pasajero impertinente"\, de Yona
 tan Sánchez Santianés
ATTACH;FMTTYPE=image/jpeg:https://www.larevistadelapalma.com/wp-content/up
 loads/2023/07/pexels-jule-1007793-scaled.jpg
CATEGORIES:Conciertos,Música
LOCATION:Teatro Circo de Marte\, Calle Virgen de La Luz\, 5\, Santa Cruz de
  La Palma\, 38700\, España
GEO:28.682989;-17.765755
X-APPLE-STRUCTURED-LOCATION;VALUE=URI;X-ADDRESS=Calle Virgen de La Luz\, 5\
 , Santa Cruz de La Palma\, 38700\, España;X-APPLE-RADIUS=100;X-TITLE=Teat
 ro Circo de Marte:geo:28.682989,-17.765755
END:VEVENT
END:VCALENDARBEGIN:VCALENDAR
VERSION:2.0
PRODID:-//wp-events-plugin.com//7.2.3.1//EN
TZID:Europe/London
X-WR-TIMEZONE:Europe/London
BEGIN:VEVENT
UID:164@larevistadelapalma.com
DTSTART:20230720T193000Z
DTEND:20230720T210000Z
DTSTAMP:20230719T104131Z
URL:https://www.larevistadelapalma.com/events/microzarzuela-el-pasajero-im
 pertinente/
SUMMARY:Estreno de la microzarzuela "El pasajero impertinente"
DESCRIPTION:Enmarcado en el IX Festival de Música Española y Zarzuela de 
 La Palma. Estreno de la microzarzuela "El pasajero impertinente"\, de Yona
 tan Sánchez Santianés
ATTACH;FMTTYPE=image/jpeg:https://www.larevistadelapalma.com/wp-content/up
 loads/2023/07/pexels-jule-1007793-scaled.jpg
CATEGORIES:Conciertos,Música
LOCATION:Teatro Circo de Marte\, Calle Virgen de La Luz\, 5\, Santa Cruz de
  La Palma\, 38700\, España
GEO:28.682989;-17.765755
X-APPLE-STRUCTURED-LOCATION;VALUE=URI;X-ADDRESS=Calle Virgen de La Luz\, 5\
 , Santa Cruz de La Palma\, 38700\, España;X-APPLE-RADIUS=100;X-TITLE=Teat
 ro Circo de Marte:geo:28.682989,-17.765755
END:VEVENT
END:VCALENDAR