BEGIN:VCALENDAR
VERSION:2.0
PRODID:-//wp-events-plugin.com//7.2.3.1//EN
TZID:Europe/London
X-WR-TIMEZONE:Europe/London
BEGIN:VEVENT
UID:3668@larevistadelapalma.com
DTSTART:20250405T110000Z
DTEND:20250405T150000Z
DTSTAMP:20250327T192736Z
URL:https://www.larevistadelapalma.com/events/mini-feria-de-artesania-san-
 vicente-ferrer-garafia/
SUMMARY:Mini Feria de Artesanía San Vicente Ferrer\, Garafía.
DESCRIPTION:Dentro de la semana del 'Día del Municipio' el municipio de Ga
 rafía organiza varios eventos en Franceses\, como la mini feria de Artesa
 nía.
ATTACH;FMTTYPE=image/jpeg:https://www.larevistadelapalma.com/wp-content/up
 loads/2025/03/Mini-Feria-Artesania-Garafia-Franceses.jpg
CATEGORIES:Ferias y mercados,Fiestas populares,Otras propuestas
LOCATION:Municipio Villa de Garafía\, Garafía\, Garafía\, 38787\, Españ
 a
GEO:28.822803;-17.950221
X-APPLE-STRUCTURED-LOCATION;VALUE=URI;X-ADDRESS=Garafía\, Garafía\, 38787
 \, España;X-APPLE-RADIUS=100;X-TITLE=Municipio Villa de Garafía:geo:28.8
 22803,-17.950221
END:VEVENT
END:VCALENDARBEGIN:VCALENDAR
VERSION:2.0
PRODID:-//wp-events-plugin.com//7.2.3.1//EN
TZID:Europe/London
X-WR-TIMEZONE:Europe/London
BEGIN:VEVENT
UID:3668@larevistadelapalma.com
DTSTART:20250405T110000Z
DTEND:20250405T150000Z
DTSTAMP:20250327T192736Z
URL:https://www.larevistadelapalma.com/events/mini-feria-de-artesania-san-
 vicente-ferrer-garafia/
SUMMARY:Mini Feria de Artesanía San Vicente Ferrer\, Garafía.
DESCRIPTION:Dentro de la semana del 'Día del Municipio' el municipio de Ga
 rafía organiza varios eventos en Franceses\, como la mini feria de Artesa
 nía.
ATTACH;FMTTYPE=image/jpeg:https://www.larevistadelapalma.com/wp-content/up
 loads/2025/03/Mini-Feria-Artesania-Garafia-Franceses.jpg
CATEGORIES:Ferias y mercados,Fiestas populares,Otras propuestas
LOCATION:Municipio Villa de Garafía\, Garafía\, Garafía\, 38787\, Españ
 a
GEO:28.822803;-17.950221
X-APPLE-STRUCTURED-LOCATION;VALUE=URI;X-ADDRESS=Garafía\, Garafía\, 38787
 \, España;X-APPLE-RADIUS=100;X-TITLE=Municipio Villa de Garafía:geo:28.8
 22803,-17.950221
END:VEVENT
END:VCALENDAR