BEGIN:VCALENDAR
VERSION:2.0
PRODID:-//wp-events-plugin.com//7.2.3.1//EN
TZID:Europe/London
X-WR-TIMEZONE:Europe/London
BEGIN:VEVENT
UID:4642@larevistadelapalma.com
DTSTART:20260424T200000Z
DTEND:20260424T213000Z
DTSTAMP:20260422T204325Z
URL:https://www.larevistadelapalma.com/events/monarkada-en-lunatico-la-pal
 ma-2/
SUMMARY:Monarkada en Lunático La Palma
DESCRIPTION:Rock en todos sus aspectos: la formación Monarkada nos animar
 á este viernes con una mezcla divertida de Punk\, Funk\, Rock americano. 
 Un poco para todos los gustos.\n\nBanda Sin Nombre
ATTACH;FMTTYPE=image/jpeg:https://www.larevistadelapalma.com/wp-content/up
 loads/2026/04/4-24-Monarkada-lunatico-la-palma.jpeg
CATEGORIES:Conciertos,Música
LOCATION:Sala Lunático\, El Paso\, Calle Manuel Taño 9\, El Paso\, 38750\
 , España
GEO:28.651734;-17.879603
X-APPLE-STRUCTURED-LOCATION;VALUE=URI;X-ADDRESS=Calle Manuel Taño 9\, El P
 aso\, 38750\, España;X-APPLE-RADIUS=100;X-TITLE=Sala Lunático\, El Paso:
 geo:28.651734,-17.879603
END:VEVENT
END:VCALENDARBEGIN:VCALENDAR
VERSION:2.0
PRODID:-//wp-events-plugin.com//7.2.3.1//EN
TZID:Europe/London
X-WR-TIMEZONE:Europe/London
BEGIN:VEVENT
UID:4642@larevistadelapalma.com
DTSTART:20260424T200000Z
DTEND:20260424T213000Z
DTSTAMP:20260422T204325Z
URL:https://www.larevistadelapalma.com/events/monarkada-en-lunatico-la-pal
 ma-2/
SUMMARY:Monarkada en Lunático La Palma
DESCRIPTION:Rock en todos sus aspectos: la formación Monarkada nos animar
 á este viernes con una mezcla divertida de Punk\, Funk\, Rock americano. 
 Un poco para todos los gustos.\n\nBanda Sin Nombre
ATTACH;FMTTYPE=image/jpeg:https://www.larevistadelapalma.com/wp-content/up
 loads/2026/04/4-24-Monarkada-lunatico-la-palma.jpeg
CATEGORIES:Conciertos,Música
LOCATION:Sala Lunático\, El Paso\, Calle Manuel Taño 9\, El Paso\, 38750\
 , España
GEO:28.651734;-17.879603
X-APPLE-STRUCTURED-LOCATION;VALUE=URI;X-ADDRESS=Calle Manuel Taño 9\, El P
 aso\, 38750\, España;X-APPLE-RADIUS=100;X-TITLE=Sala Lunático\, El Paso:
 geo:28.651734,-17.879603
END:VEVENT
END:VCALENDAR