BEGIN:VCALENDAR
VERSION:2.0
PRODID:-//wp-events-plugin.com//7.2.3.1//EN
TZID:Europe/London
X-WR-TIMEZONE:Europe/London
BEGIN:VEVENT
UID:910@larevistadelapalma.com
DTSTART:20231230T193000Z
DTEND:20231230T210000Z
DTSTAMP:20231208T020310Z
URL:https://www.larevistadelapalma.com/events/monologo-con-exhuberancia-ca
 rey-en-elvis-cocktail-bar/
SUMMARY:Monólogo con Exhuberancia Carey en Elvis Cocktail Bar
DESCRIPTION:El sábado 30 de diciembre\, a las puertas de despedir el año\
 , Elvis Cocktail Bar nos invita a reír con el último espectáculo de Exh
 uberancia Carey\, "Déjame que te cuente". Porque si\, porque esta reina d
 e la noche tinerfeña es show-woman\, actriz\, presentadora\, cantante\, y
  también monologuista. Exhuberancia es como el mítico tema de Chaka Khan
 \, es "Every woman"\, y como bien podría decir la diva Carey: "All you wa
 nt for Christmas".\n\nAsí que\, no se lo piensen\, reserven su sitio en e
 l teléfono 622 339 778 y dejen que Exhuberancia les cuente.\n\nEn el cart
 el la vemos mostrando toda su artillería navideña\, con un diseño de Fi
 lst  y foto de Adrián C. Martín.
ATTACH;FMTTYPE=image/jpeg:https://www.larevistadelapalma.com/wp-content/up
 loads/2023/12/1_20231202_194429_0000.png
CATEGORIES:Espectáculos
LOCATION:Elvis Cocktail Bar\, Calle del Medio\, 15\, Los Llanos de Aridane\
 ,  38760\, España
GEO:28.658959;-17.911405
X-APPLE-STRUCTURED-LOCATION;VALUE=URI;X-ADDRESS=Calle del Medio\, 15\, Los 
 Llanos de Aridane\,  38760\, España;X-APPLE-RADIUS=100;X-TITLE=Elvis Cock
 tail Bar:geo:28.658959,-17.911405
END:VEVENT
END:VCALENDARBEGIN:VCALENDAR
VERSION:2.0
PRODID:-//wp-events-plugin.com//7.2.3.1//EN
TZID:Europe/London
X-WR-TIMEZONE:Europe/London
BEGIN:VEVENT
UID:910@larevistadelapalma.com
DTSTART:20231230T193000Z
DTEND:20231230T210000Z
DTSTAMP:20231208T020310Z
URL:https://www.larevistadelapalma.com/events/monologo-con-exhuberancia-ca
 rey-en-elvis-cocktail-bar/
SUMMARY:Monólogo con Exhuberancia Carey en Elvis Cocktail Bar
DESCRIPTION:El sábado 30 de diciembre\, a las puertas de despedir el año\
 , Elvis Cocktail Bar nos invita a reír con el último espectáculo de Exh
 uberancia Carey\, "Déjame que te cuente". Porque si\, porque esta reina d
 e la noche tinerfeña es show-woman\, actriz\, presentadora\, cantante\, y
  también monologuista. Exhuberancia es como el mítico tema de Chaka Khan
 \, es "Every woman"\, y como bien podría decir la diva Carey: "All you wa
 nt for Christmas".\n\nAsí que\, no se lo piensen\, reserven su sitio en e
 l teléfono 622 339 778 y dejen que Exhuberancia les cuente.\n\nEn el cart
 el la vemos mostrando toda su artillería navideña\, con un diseño de Fi
 lst  y foto de Adrián C. Martín.
ATTACH;FMTTYPE=image/jpeg:https://www.larevistadelapalma.com/wp-content/up
 loads/2023/12/1_20231202_194429_0000.png
CATEGORIES:Espectáculos
LOCATION:Elvis Cocktail Bar\, Calle del Medio\, 15\, Los Llanos de Aridane\
 ,  38760\, España
GEO:28.658959;-17.911405
X-APPLE-STRUCTURED-LOCATION;VALUE=URI;X-ADDRESS=Calle del Medio\, 15\, Los 
 Llanos de Aridane\,  38760\, España;X-APPLE-RADIUS=100;X-TITLE=Elvis Cock
 tail Bar:geo:28.658959,-17.911405
END:VEVENT
END:VCALENDAR