BEGIN:VCALENDAR
VERSION:2.0
PRODID:-//wp-events-plugin.com//7.2.3.1//EN
TZID:Europe/London
X-WR-TIMEZONE:Europe/London
BEGIN:VEVENT
UID:2747@larevistadelapalma.com
DTSTART:20240126T180000Z
DTEND:20240126T220000Z
DTSTAMP:20240125T233516Z
URL:https://www.larevistadelapalma.com/events/monterreina-y-calamity-jane-
 en-elvis-cocktail-bar/
SUMMARY:Monterreina y Calamity Jane en Elvis Cocktail Bar
DESCRIPTION:Monterreina y Calamity Jane\, vuelven al Elvis Cocktail Bar\, 
 este viernes con sus vinilos más funky\, más rock\, más alegres\, noved
 osos y bailables.
ATTACH;FMTTYPE=image/jpeg:https://www.larevistadelapalma.com/wp-content/up
 loads/2024/01/Calamity-y-Monterreina-Elvis-Bar.jpg
CATEGORIES:Conciertos,Música
LOCATION:Elvis Cocktail Bar\, Calle del Medio\, 15\, Los Llanos de Aridane\
 ,  38760\, España
GEO:28.658959;-17.911405
X-APPLE-STRUCTURED-LOCATION;VALUE=URI;X-ADDRESS=Calle del Medio\, 15\, Los 
 Llanos de Aridane\,  38760\, España;X-APPLE-RADIUS=100;X-TITLE=Elvis Cock
 tail Bar:geo:28.658959,-17.911405
END:VEVENT
END:VCALENDARBEGIN:VCALENDAR
VERSION:2.0
PRODID:-//wp-events-plugin.com//7.2.3.1//EN
TZID:Europe/London
X-WR-TIMEZONE:Europe/London
BEGIN:VEVENT
UID:2747@larevistadelapalma.com
DTSTART:20240126T180000Z
DTEND:20240126T220000Z
DTSTAMP:20240125T233516Z
URL:https://www.larevistadelapalma.com/events/monterreina-y-calamity-jane-
 en-elvis-cocktail-bar/
SUMMARY:Monterreina y Calamity Jane en Elvis Cocktail Bar
DESCRIPTION:Monterreina y Calamity Jane\, vuelven al Elvis Cocktail Bar\, 
 este viernes con sus vinilos más funky\, más rock\, más alegres\, noved
 osos y bailables.
ATTACH;FMTTYPE=image/jpeg:https://www.larevistadelapalma.com/wp-content/up
 loads/2024/01/Calamity-y-Monterreina-Elvis-Bar.jpg
CATEGORIES:Conciertos,Música
LOCATION:Elvis Cocktail Bar\, Calle del Medio\, 15\, Los Llanos de Aridane\
 ,  38760\, España
GEO:28.658959;-17.911405
X-APPLE-STRUCTURED-LOCATION;VALUE=URI;X-ADDRESS=Calle del Medio\, 15\, Los 
 Llanos de Aridane\,  38760\, España;X-APPLE-RADIUS=100;X-TITLE=Elvis Cock
 tail Bar:geo:28.658959,-17.911405
END:VEVENT
END:VCALENDAR