BEGIN:VCALENDAR
VERSION:2.0
PRODID:-//wp-events-plugin.com//7.2.3.1//EN
TZID:Europe/London
X-WR-TIMEZONE:Europe/London
BEGIN:VEVENT
UID:3575@larevistadelapalma.com
DTSTART:20250207T190000Z
DTEND:20250207T204500Z
DTSTAMP:20250204T162412Z
URL:https://www.larevistadelapalma.com/events/motown-quintet-los-llanos/
SUMMARY:Motown Quintet\, Los Llanos de Aridane
DESCRIPTION:\nCinco músicos de lujo nos traerán la mejor selección de cl
 ásicos en un concierto que promete hacer vibrar cada rincón. El viernes 
 7 de febrero\,  Los Llanos de Aridane se llena de ritmo con Motown Quinte
 t.\nEste proyecto musical\, nacido en La Palma\, reúne a talentosos músi
 cos palmeros\, tinerfeños y alemanes en un espectáculo que rinde homenaj
 e a la emblemática música motown de los años 70. Con un estilo propio
 \, la banda ofrece un recorrido por el funk\, el soul y el jazz\, revisita
 ndo temas icónicos de artistas como Stevie Wonder\, Toto y Herbie Hancock
 \, entre otros.\n\nEl quinteto está formado por:\n\n 	Jurgen Wust – Voz
  y piano\n 	Juan Lorenzo – Percusión\n 	Airam Rodríguez – Bajo\n 	Do
 minik Behringer – Batería\n 	Marcos Torres – Guitarra\n\n
ATTACH;FMTTYPE=image/jpeg:https://www.larevistadelapalma.com/wp-content/up
 loads/2025/01/La-plaza-A3.jpg
CATEGORIES:Conciertos,Música
LOCATION:Plaza de España en Los Llanos de Aridane\, Plaza de España\, Los
  Llanos de Aridane\, 38760\, España
GEO:28.658934;-17.913174
X-APPLE-STRUCTURED-LOCATION;VALUE=URI;X-ADDRESS=Plaza de España\, Los Llan
 os de Aridane\, 38760\, España;X-APPLE-RADIUS=100;X-TITLE=Plaza de Españ
 a en Los Llanos de Aridane:geo:28.658934,-17.913174
END:VEVENT
END:VCALENDARBEGIN:VCALENDAR
VERSION:2.0
PRODID:-//wp-events-plugin.com//7.2.3.1//EN
TZID:Europe/London
X-WR-TIMEZONE:Europe/London
BEGIN:VEVENT
UID:3575@larevistadelapalma.com
DTSTART:20250207T190000Z
DTEND:20250207T204500Z
DTSTAMP:20250204T162412Z
URL:https://www.larevistadelapalma.com/events/motown-quintet-los-llanos/
SUMMARY:Motown Quintet\, Los Llanos de Aridane
DESCRIPTION:\nCinco músicos de lujo nos traerán la mejor selección de cl
 ásicos en un concierto que promete hacer vibrar cada rincón. El viernes 
 7 de febrero\,  Los Llanos de Aridane se llena de ritmo con Motown Quinte
 t.\nEste proyecto musical\, nacido en La Palma\, reúne a talentosos músi
 cos palmeros\, tinerfeños y alemanes en un espectáculo que rinde homenaj
 e a la emblemática música motown de los años 70. Con un estilo propio
 \, la banda ofrece un recorrido por el funk\, el soul y el jazz\, revisita
 ndo temas icónicos de artistas como Stevie Wonder\, Toto y Herbie Hancock
 \, entre otros.\n\nEl quinteto está formado por:\n\n 	Jurgen Wust – Voz
  y piano\n 	Juan Lorenzo – Percusión\n 	Airam Rodríguez – Bajo\n 	Do
 minik Behringer – Batería\n 	Marcos Torres – Guitarra\n\n
ATTACH;FMTTYPE=image/jpeg:https://www.larevistadelapalma.com/wp-content/up
 loads/2025/01/La-plaza-A3.jpg
CATEGORIES:Conciertos,Música
LOCATION:Plaza de España en Los Llanos de Aridane\, Plaza de España\, Los
  Llanos de Aridane\, 38760\, España
GEO:28.658934;-17.913174
X-APPLE-STRUCTURED-LOCATION;VALUE=URI;X-ADDRESS=Plaza de España\, Los Llan
 os de Aridane\, 38760\, España;X-APPLE-RADIUS=100;X-TITLE=Plaza de Españ
 a en Los Llanos de Aridane:geo:28.658934,-17.913174
END:VEVENT
END:VCALENDAR