BEGIN:VCALENDAR
VERSION:2.0
PRODID:-//wp-events-plugin.com//7.2.3.1//EN
TZID:Europe/London
X-WR-TIMEZONE:Europe/London
BEGIN:VEVENT
UID:139@larevistadelapalma.com
DTSTART;VALUE=DATE:20230706
DTEND;VALUE=DATE:20230709
DTSTAMP:20230703T010327Z
URL:https://www.larevistadelapalma.com/events/move-canarias-2023/
SUMMARY:Tercera edición de MOVE Canarias (Festival Internacional de las ar
 tes del movimiento en Canarias)
DESCRIPTION:El Festival de danza MOVE CANARIAS en 2023 celebra su tercera e
 dición y estará presente en Lanzarote\, Tenerife\, Gran Canaria y La Pa
 lma
ATTACH;FMTTYPE=image/jpeg:https://www.larevistadelapalma.com/wp-content/up
 loads/2023/07/move-canarias-2023.jpg
CATEGORIES:Danza,Espectáculos
LOCATION:Espacio Cultural El Secadero\, C. Rosal\, 3\,\, Los Llanos de Arid
 ane\, 38760\, España
GEO:28.659406;-17.907147
X-APPLE-STRUCTURED-LOCATION;VALUE=URI;X-ADDRESS=C. Rosal\, 3\,\, Los Llanos
  de Aridane\, 38760\, España;X-APPLE-RADIUS=100;X-TITLE=Espacio Cultural 
 El Secadero:geo:28.659406,-17.907147
END:VEVENT
END:VCALENDARBEGIN:VCALENDAR
VERSION:2.0
PRODID:-//wp-events-plugin.com//7.2.3.1//EN
TZID:Europe/London
X-WR-TIMEZONE:Europe/London
BEGIN:VEVENT
UID:139@larevistadelapalma.com
DTSTART;VALUE=DATE:20230706
DTEND;VALUE=DATE:20230709
DTSTAMP:20230703T010327Z
URL:https://www.larevistadelapalma.com/events/move-canarias-2023/
SUMMARY:Tercera edición de MOVE Canarias (Festival Internacional de las ar
 tes del movimiento en Canarias)
DESCRIPTION:El Festival de danza MOVE CANARIAS en 2023 celebra su tercera e
 dición y estará presente en Lanzarote\, Tenerife\, Gran Canaria y La Pa
 lma
ATTACH;FMTTYPE=image/jpeg:https://www.larevistadelapalma.com/wp-content/up
 loads/2023/07/move-canarias-2023.jpg
CATEGORIES:Danza,Espectáculos
LOCATION:Espacio Cultural El Secadero\, C. Rosal\, 3\,\, Los Llanos de Arid
 ane\, 38760\, España
GEO:28.659406;-17.907147
X-APPLE-STRUCTURED-LOCATION;VALUE=URI;X-ADDRESS=C. Rosal\, 3\,\, Los Llanos
  de Aridane\, 38760\, España;X-APPLE-RADIUS=100;X-TITLE=Espacio Cultural 
 El Secadero:geo:28.659406,-17.907147
END:VEVENT
END:VCALENDAR