BEGIN:VCALENDAR
VERSION:2.0
PRODID:-//wp-events-plugin.com//7.2.3.1//EN
TZID:Europe/London
X-WR-TIMEZONE:Europe/London
BEGIN:VEVENT
UID:3515@larevistadelapalma.com
DTSTART;VALUE=DATE:20241220
DTEND;VALUE=DATE:20250108
DTSTAMP:20241227T194023Z
URL:https://www.larevistadelapalma.com/events/muestra-artesania-navidad-ca
 sa-salazar/
SUMMARY:Muestra de Artesanía de Navidad en la Casa Salazar
DESCRIPTION:La Consejería de Artesanía del Cabildo de La Palma te invita 
 a disfrutar de la Muestra de Artesanía de Navidad\, un evento que reunir
 á el talento y creatividad de nuestros artesanos locales.\n\nLa muestra d
 e este año cuenta con la representación de las asociaciones de Arteba\, 
 Artemazo y El Telar\, así como con 22 oficios\, como almazulas\; bordado\
 ; carpintería\; torneado de madera\; cestería de palma\; decoración de 
 cristal y de telas\; flores artificiales\; frivolité\; ganchillo\; joyer
 ía\; macramé\; modelado\; modista\; muñequería\; papel y cartón\, tra
 jes tradicionales y polainas\; reciclado de materiales...\n\nHorarios:Día
 s 20\, 21\, 22\, 23\, 26\, 27\, 28\, 29 y 30 de diciembre de 2024:\n\n 	De
  10:00 a 14:00 h y de 17:00 a 20:00 h.\n\nDías 2\, 3 y 4 de enero de 2025
 :\n\n 	De 10:00 a 14:00 h y de 17:00 a 20:00 h.\n\n Días especiales:\n\n
  	24 y 31 de diciembre: De 10:00 a 14:00 h.\n 	5 de enero: De 10:00 a 21:0
 0 h.\n 	7 de enero: De 10:00 a 14:00 h.\n\nCerrado: 25 de diciembre y 1 y 
 6 de enero.\n\n\n\n
ATTACH;FMTTYPE=image/jpeg:https://www.larevistadelapalma.com/wp-content/up
 loads/2024/12/Artesania-Casa-Salazar-3.jpg
CATEGORIES:Ferias y mercados,Otras propuestas
LOCATION:Casa principal de Salazar\, Calle Odaly\, 22\, Santa Cruz de La Pa
 lma\, 38700\, España
GEO:28.682275;-17.765795
X-APPLE-STRUCTURED-LOCATION;VALUE=URI;X-ADDRESS=Calle Odaly\, 22\, Santa Cr
 uz de La Palma\, 38700\, España;X-APPLE-RADIUS=100;X-TITLE=Casa principal
  de Salazar:geo:28.682275,-17.765795
END:VEVENT
END:VCALENDARBEGIN:VCALENDAR
VERSION:2.0
PRODID:-//wp-events-plugin.com//7.2.3.1//EN
TZID:Europe/London
X-WR-TIMEZONE:Europe/London
BEGIN:VEVENT
UID:3515@larevistadelapalma.com
DTSTART;VALUE=DATE:20241220
DTEND;VALUE=DATE:20250108
DTSTAMP:20241227T194023Z
URL:https://www.larevistadelapalma.com/events/muestra-artesania-navidad-ca
 sa-salazar/
SUMMARY:Muestra de Artesanía de Navidad en la Casa Salazar
DESCRIPTION:La Consejería de Artesanía del Cabildo de La Palma te invita 
 a disfrutar de la Muestra de Artesanía de Navidad\, un evento que reunir
 á el talento y creatividad de nuestros artesanos locales.\n\nLa muestra d
 e este año cuenta con la representación de las asociaciones de Arteba\, 
 Artemazo y El Telar\, así como con 22 oficios\, como almazulas\; bordado\
 ; carpintería\; torneado de madera\; cestería de palma\; decoración de 
 cristal y de telas\; flores artificiales\; frivolité\; ganchillo\; joyer
 ía\; macramé\; modelado\; modista\; muñequería\; papel y cartón\, tra
 jes tradicionales y polainas\; reciclado de materiales...\n\nHorarios:Día
 s 20\, 21\, 22\, 23\, 26\, 27\, 28\, 29 y 30 de diciembre de 2024:\n\n 	De
  10:00 a 14:00 h y de 17:00 a 20:00 h.\n\nDías 2\, 3 y 4 de enero de 2025
 :\n\n 	De 10:00 a 14:00 h y de 17:00 a 20:00 h.\n\n Días especiales:\n\n
  	24 y 31 de diciembre: De 10:00 a 14:00 h.\n 	5 de enero: De 10:00 a 21:0
 0 h.\n 	7 de enero: De 10:00 a 14:00 h.\n\nCerrado: 25 de diciembre y 1 y 
 6 de enero.\n\n\n\n
ATTACH;FMTTYPE=image/jpeg:https://www.larevistadelapalma.com/wp-content/up
 loads/2024/12/Artesania-Casa-Salazar-3.jpg
CATEGORIES:Ferias y mercados,Otras propuestas
LOCATION:Casa principal de Salazar\, Calle Odaly\, 22\, Santa Cruz de La Pa
 lma\, 38700\, España
GEO:28.682275;-17.765795
X-APPLE-STRUCTURED-LOCATION;VALUE=URI;X-ADDRESS=Calle Odaly\, 22\, Santa Cr
 uz de La Palma\, 38700\, España;X-APPLE-RADIUS=100;X-TITLE=Casa principal
  de Salazar:geo:28.682275,-17.765795
END:VEVENT
END:VCALENDAR