BEGIN:VCALENDAR
VERSION:2.0
PRODID:-//wp-events-plugin.com//7.2.3.1//EN
TZID:Europe/London
X-WR-TIMEZONE:Europe/London
BEGIN:VEVENT
UID:3216@larevistadelapalma.com
DTSTART;VALUE=DATE:20240828
DTEND;VALUE=DATE:20240922
DTSTAMP:20240903T211224Z
URL:https://www.larevistadelapalma.com/events/muestra-colectiva-de-artesan
 ia-en-las-tricias/
SUMMARY:Muestra colectiva de artesanía en Las Tricias
DESCRIPTION:Cestería\, ganchillo\, costura\, punto y lienzos al óleo.\nLa
  muestra se podrá visitar en horario de la Oficina de Información Turís
 tica de Las Tricias\, de lunes a viernes de 10:00 a 17:00 horas y los fine
 s de semana y festivos de 10.30 a 14:30 horas.\n\nLa Sala de Exposiciones 
 “Las Tricias” es un espacio cultural abierto a propuestas locales y\, 
 por supuesto\, dispuesto a colaborar y apoyar a todas aquellas personas y/
 o colectivos apasionados por el ARTE.
ATTACH;FMTTYPE=image/jpeg:https://www.larevistadelapalma.com/wp-content/up
 loads/2024/09/Muestra-de-Artesania-en-Las-Tricias.jpg
CATEGORIES:Exposiciones
LOCATION:Sala de Exposiciones Las Tricias\, Casa Los Barreros. Plaza José 
 Mata\, Las Tricias s/n\, Garafía\, 38787 \, España
GEO:28.781121;-17.963295
X-APPLE-STRUCTURED-LOCATION;VALUE=URI;X-ADDRESS=Casa Los Barreros. Plaza Jo
 sé Mata\, Las Tricias s/n\, Garafía\, 38787 \, España;X-APPLE-RADIUS=10
 0;X-TITLE=Sala de Exposiciones Las Tricias:geo:28.781121,-17.963295
END:VEVENT
END:VCALENDARBEGIN:VCALENDAR
VERSION:2.0
PRODID:-//wp-events-plugin.com//7.2.3.1//EN
TZID:Europe/London
X-WR-TIMEZONE:Europe/London
BEGIN:VEVENT
UID:3216@larevistadelapalma.com
DTSTART;VALUE=DATE:20240828
DTEND;VALUE=DATE:20240922
DTSTAMP:20240903T211224Z
URL:https://www.larevistadelapalma.com/events/muestra-colectiva-de-artesan
 ia-en-las-tricias/
SUMMARY:Muestra colectiva de artesanía en Las Tricias
DESCRIPTION:Cestería\, ganchillo\, costura\, punto y lienzos al óleo.\nLa
  muestra se podrá visitar en horario de la Oficina de Información Turís
 tica de Las Tricias\, de lunes a viernes de 10:00 a 17:00 horas y los fine
 s de semana y festivos de 10.30 a 14:30 horas.\n\nLa Sala de Exposiciones 
 “Las Tricias” es un espacio cultural abierto a propuestas locales y\, 
 por supuesto\, dispuesto a colaborar y apoyar a todas aquellas personas y/
 o colectivos apasionados por el ARTE.
ATTACH;FMTTYPE=image/jpeg:https://www.larevistadelapalma.com/wp-content/up
 loads/2024/09/Muestra-de-Artesania-en-Las-Tricias.jpg
CATEGORIES:Exposiciones
LOCATION:Sala de Exposiciones Las Tricias\, Casa Los Barreros. Plaza José 
 Mata\, Las Tricias s/n\, Garafía\, 38787 \, España
GEO:28.781121;-17.963295
X-APPLE-STRUCTURED-LOCATION;VALUE=URI;X-ADDRESS=Casa Los Barreros. Plaza Jo
 sé Mata\, Las Tricias s/n\, Garafía\, 38787 \, España;X-APPLE-RADIUS=10
 0;X-TITLE=Sala de Exposiciones Las Tricias:geo:28.781121,-17.963295
END:VEVENT
END:VCALENDAR