BEGIN:VCALENDAR
VERSION:2.0
PRODID:-//wp-events-plugin.com//7.2.3.1//EN
TZID:Europe/London
X-WR-TIMEZONE:Europe/London
BEGIN:VEVENT
UID:4411@larevistadelapalma.com
DTSTART:20251219T160000Z
DTEND:20251219T203000Z
DTSTAMP:20251219T222831Z
URL:https://www.larevistadelapalma.com/events/muestra-de-artesania-en-bren
 a-alta/
SUMMARY:CAMBIOS - Muestra de artesanía y actuaciones en Breña Alta
DESCRIPTION:\n\n 	A causa de las condiciones meteorológicas\, los villanci
 cos y el concierto previsto para esta tarde en la Plaza Bujaz quedan cance
 lados.\n\nEste viernes\, 19 de diciembre\, te esperan en la Plaza Bujaz co
 n la mejor artesanía local y actividades para toda la familia desde las 1
 7:00 horas. Seguro que podrás encontrar ese detalle único y especial.\n\
 n
ATTACH;FMTTYPE=image/jpeg:https://www.larevistadelapalma.com/wp-content/up
 loads/2025/12/Muestra-de-artesania-b-alta.jpg
CATEGORIES:Ferias y mercados,Fiestas populares,Otras propuestas
LOCATION:Plaza Bujaz\, Breña Alta\, Calle Treinta de Mayo\, Breña Alta\, 
 38710\, España
GEO:28.662869;-17.788333
X-APPLE-STRUCTURED-LOCATION;VALUE=URI;X-ADDRESS=Calle Treinta de Mayo\, Bre
 ña Alta\, 38710\, España;X-APPLE-RADIUS=100;X-TITLE=Plaza Bujaz\, Breña
  Alta:geo:28.662869,-17.788333
END:VEVENT
END:VCALENDARBEGIN:VCALENDAR
VERSION:2.0
PRODID:-//wp-events-plugin.com//7.2.3.1//EN
TZID:Europe/London
X-WR-TIMEZONE:Europe/London
BEGIN:VEVENT
UID:4411@larevistadelapalma.com
DTSTART:20251219T160000Z
DTEND:20251219T203000Z
DTSTAMP:20251219T222831Z
URL:https://www.larevistadelapalma.com/events/muestra-de-artesania-en-bren
 a-alta/
SUMMARY:CAMBIOS - Muestra de artesanía y actuaciones en Breña Alta
DESCRIPTION:\n\n 	A causa de las condiciones meteorológicas\, los villanci
 cos y el concierto previsto para esta tarde en la Plaza Bujaz quedan cance
 lados.\n\nEste viernes\, 19 de diciembre\, te esperan en la Plaza Bujaz co
 n la mejor artesanía local y actividades para toda la familia desde las 1
 7:00 horas. Seguro que podrás encontrar ese detalle único y especial.\n\
 n
ATTACH;FMTTYPE=image/jpeg:https://www.larevistadelapalma.com/wp-content/up
 loads/2025/12/Muestra-de-artesania-b-alta.jpg
CATEGORIES:Ferias y mercados,Fiestas populares,Otras propuestas
LOCATION:Plaza Bujaz\, Breña Alta\, Calle Treinta de Mayo\, Breña Alta\, 
 38710\, España
GEO:28.662869;-17.788333
X-APPLE-STRUCTURED-LOCATION;VALUE=URI;X-ADDRESS=Calle Treinta de Mayo\, Bre
 ña Alta\, 38710\, España;X-APPLE-RADIUS=100;X-TITLE=Plaza Bujaz\, Breña
  Alta:geo:28.662869,-17.788333
END:VEVENT
END:VCALENDAR