BEGIN:VCALENDAR
VERSION:2.0
PRODID:-//wp-events-plugin.com//7.2.3.1//EN
TZID:Europe/London
X-WR-TIMEZONE:Europe/London
BEGIN:VEVENT
UID:3902@larevistadelapalma.com
DTSTART;VALUE=DATE:20250814
DTEND;VALUE=DATE:20250818
DTSTAMP:20250812T214010Z
URL:https://www.larevistadelapalma.com/events/muestra-de-artesania-en-la-c
 asa-salazar/
SUMMARY:Muestra de Artesanía en la Casa Salazar
DESCRIPTION:\n Del 14 al 17 de agosto\, la Casa Salazar en Santa Cruz de L
 a Palma acogerá la Muestra "De Raíz Artesana"\, un evento que pone en va
 lor el talento y la tradición artesanal de nuestra isla.\n Horario:\n\n\n
 \n\n 	 Jueves 14: de 10:00 a 20:00\n 	 Viernes 15 y sábado 16: de 10:00
  a 14:30 y de 16:30 a 20:00\n 	 Domingo 17: de 10:00 a 14:00\n\nDocumenta
 ción para inscripción de Asociaciones y Autónomos en www.artesaniadelap
 alma.com\n\n\n\n\n\n
ATTACH;FMTTYPE=image/jpeg:https://www.larevistadelapalma.com/wp-content/up
 loads/2025/08/De-raiz-artesana.jpg
CATEGORIES:Exposiciones
END:VEVENT
END:VCALENDARBEGIN:VCALENDAR
VERSION:2.0
PRODID:-//wp-events-plugin.com//7.2.3.1//EN
TZID:Europe/London
X-WR-TIMEZONE:Europe/London
BEGIN:VEVENT
UID:3902@larevistadelapalma.com
DTSTART;VALUE=DATE:20250814
DTEND;VALUE=DATE:20250818
DTSTAMP:20250812T214010Z
URL:https://www.larevistadelapalma.com/events/muestra-de-artesania-en-la-c
 asa-salazar/
SUMMARY:Muestra de Artesanía en la Casa Salazar
DESCRIPTION:\n Del 14 al 17 de agosto\, la Casa Salazar en Santa Cruz de L
 a Palma acogerá la Muestra "De Raíz Artesana"\, un evento que pone en va
 lor el talento y la tradición artesanal de nuestra isla.\n Horario:\n\n\n
 \n\n 	 Jueves 14: de 10:00 a 20:00\n 	 Viernes 15 y sábado 16: de 10:00
  a 14:30 y de 16:30 a 20:00\n 	 Domingo 17: de 10:00 a 14:00\n\nDocumenta
 ción para inscripción de Asociaciones y Autónomos en www.artesaniadelap
 alma.com\n\n\n\n\n\n
ATTACH;FMTTYPE=image/jpeg:https://www.larevistadelapalma.com/wp-content/up
 loads/2025/08/De-raiz-artesana.jpg
CATEGORIES:Exposiciones
END:VEVENT
END:VCALENDAR