BEGIN:VCALENDAR
VERSION:2.0
PRODID:-//wp-events-plugin.com//7.2.3.1//EN
TZID:Europe/London
X-WR-TIMEZONE:Europe/London
BEGIN:VEVENT
UID:4123@larevistadelapalma.com
DTSTART;VALUE=DATE:20251222
DTEND;VALUE=DATE:20260108
DTSTAMP:20251216T174456Z
URL:https://www.larevistadelapalma.com/events/muestra-de-artesania-navidad
 -2025-en-la-casa-salazar/
SUMMARY:Muestra de Artesanía “Navidad 2025” en la Casa Salazar
DESCRIPTION:\nEl objetivo de esta iniciativa es poner en valor la artesaní
 a insular\, apoyar al sector y acercar al público el patrimonio cultural 
 de la isla. La muestra contará con la participación de personas artesana
 s autónomas y asociaciones legalmente constituidas de La Palma\, que podr
 án exponer y vender productos de elaboración artesanal y de autoría pro
 pia.\nInscripciones abiertas. Más info &gt\;&gt\;\nEn la pasada edición\
 , la muestra reunió un total de 22 oficios en el Palacio de Salazar.\n\n\
 n Horario:\n\n\n 	General: 10:00 a 20:00 horas\n 	24 diciembre\, 31 diciem
 bre y 7 enero: 10:00 a 14:00 horas\n 	Cerrado: 25 diciembre\, 1 enero y 6 
 enero\n\n\n\n\n
ATTACH;FMTTYPE=image/jpeg:https://www.larevistadelapalma.com/wp-content/up
 loads/2023/12/Feria-Artesania-Navidad-23-2.jpeg
CATEGORIES:Ferias y mercados,Otras propuestas
LOCATION:Casa principal de Salazar\, Calle Odaly\, 22\, Santa Cruz de La Pa
 lma\, 38700\, España
GEO:28.682275;-17.765795
X-APPLE-STRUCTURED-LOCATION;VALUE=URI;X-ADDRESS=Calle Odaly\, 22\, Santa Cr
 uz de La Palma\, 38700\, España;X-APPLE-RADIUS=100;X-TITLE=Casa principal
  de Salazar:geo:28.682275,-17.765795
END:VEVENT
END:VCALENDARBEGIN:VCALENDAR
VERSION:2.0
PRODID:-//wp-events-plugin.com//7.2.3.1//EN
TZID:Europe/London
X-WR-TIMEZONE:Europe/London
BEGIN:VEVENT
UID:4123@larevistadelapalma.com
DTSTART;VALUE=DATE:20251222
DTEND;VALUE=DATE:20260108
DTSTAMP:20251216T174456Z
URL:https://www.larevistadelapalma.com/events/muestra-de-artesania-navidad
 -2025-en-la-casa-salazar/
SUMMARY:Muestra de Artesanía “Navidad 2025” en la Casa Salazar
DESCRIPTION:\nEl objetivo de esta iniciativa es poner en valor la artesaní
 a insular\, apoyar al sector y acercar al público el patrimonio cultural 
 de la isla. La muestra contará con la participación de personas artesana
 s autónomas y asociaciones legalmente constituidas de La Palma\, que podr
 án exponer y vender productos de elaboración artesanal y de autoría pro
 pia.\nInscripciones abiertas. Más info &gt\;&gt\;\nEn la pasada edición\
 , la muestra reunió un total de 22 oficios en el Palacio de Salazar.\n\n\
 n Horario:\n\n\n 	General: 10:00 a 20:00 horas\n 	24 diciembre\, 31 diciem
 bre y 7 enero: 10:00 a 14:00 horas\n 	Cerrado: 25 diciembre\, 1 enero y 6 
 enero\n\n\n\n\n
ATTACH;FMTTYPE=image/jpeg:https://www.larevistadelapalma.com/wp-content/up
 loads/2023/12/Feria-Artesania-Navidad-23-2.jpeg
CATEGORIES:Ferias y mercados,Otras propuestas
LOCATION:Casa principal de Salazar\, Calle Odaly\, 22\, Santa Cruz de La Pa
 lma\, 38700\, España
GEO:28.682275;-17.765795
X-APPLE-STRUCTURED-LOCATION;VALUE=URI;X-ADDRESS=Calle Odaly\, 22\, Santa Cr
 uz de La Palma\, 38700\, España;X-APPLE-RADIUS=100;X-TITLE=Casa principal
  de Salazar:geo:28.682275,-17.765795
END:VEVENT
END:VCALENDAR