BEGIN:VCALENDAR
VERSION:2.0
PRODID:-//wp-events-plugin.com//7.2.3.1//EN
TZID:Europe/London
X-WR-TIMEZONE:Europe/London
BEGIN:VEVENT
UID:3625@larevistadelapalma.com
DTSTART:20250318T090000Z
DTEND:20250322T190000Z
DTSTAMP:20250318T182839Z
URL:https://www.larevistadelapalma.com/events/muestra-de-indumentaria-trad
 icional-en-la-casa-salazar/
SUMMARY:Muestra de Indumentaria Tradicional en la Casa Salazar
DESCRIPTION:\nLa Muestra de Indumentaria Tradicional hace un recorrido ún
 ico por la vestimenta que ha marcado nuestra historia y cultura.\n\n\nLa C
 asa Salazar acoge dos muestras de artesanía para celebrar la tradición y
  la creatividad en La Palma:La exposición ‘Indumentaria tradicional’ 
 (que se podrá visitar del 18 al 22 de marzo) y ‘La Palma Primavera’ (
 del 25 al 29 de marzo).\n\nLa Consejería de Artesanía del Cabildo de La 
 Palma organiza estas dos muestras de artesanía con el objetivo de poner e
 n valor el trabajo artesanal de la Isla y fomentar su reconocimiento\, tan
 to a nivel local como regional.\n\nLa muestra\, titulada Indumentaria trad
 icional\, se desarrollará del 18 al 22 de marzo de 2025\, en horario de 1
 0:00 a 20:00 horas. En esta exhibición\, los asistentes podrán conocer e
 n detalle la riqueza de la vestimenta tradicional palmera\, con piezas ela
 boradas por artesanos especializados en la confección de trajes típicos 
 y accesorios representativos de la cultura insular.\n\nPor otro lado\, del
  25 al 29 de marzo de 2025\, se llevará a cabo la muestra La Palma Primav
 era\, una exhibición que reunirá una amplia variedad de productos artesa
 nales inspirados en la naturaleza y la primavera\, reflejando la creativid
 ad y diversidad de la artesanía palmera.\n\n\n\n\n\nHorario: De 10:00 a 2
 0:00 h\n
ATTACH;FMTTYPE=image/jpeg:https://www.larevistadelapalma.com/wp-content/up
 loads/2025/02/Muestra-Indumentaria-tradicional-Casa-Salazar.jpg
CATEGORIES:Exposiciones
LOCATION:Casa principal de Salazar\, Calle Odaly\, 22\, Santa Cruz de La Pa
 lma\, 38700\, España
GEO:28.682275;-17.765795
X-APPLE-STRUCTURED-LOCATION;VALUE=URI;X-ADDRESS=Calle Odaly\, 22\, Santa Cr
 uz de La Palma\, 38700\, España;X-APPLE-RADIUS=100;X-TITLE=Casa principal
  de Salazar:geo:28.682275,-17.765795
END:VEVENT
END:VCALENDARBEGIN:VCALENDAR
VERSION:2.0
PRODID:-//wp-events-plugin.com//7.2.3.1//EN
TZID:Europe/London
X-WR-TIMEZONE:Europe/London
BEGIN:VEVENT
UID:3625@larevistadelapalma.com
DTSTART:20250318T090000Z
DTEND:20250322T190000Z
DTSTAMP:20250318T182839Z
URL:https://www.larevistadelapalma.com/events/muestra-de-indumentaria-trad
 icional-en-la-casa-salazar/
SUMMARY:Muestra de Indumentaria Tradicional en la Casa Salazar
DESCRIPTION:\nLa Muestra de Indumentaria Tradicional hace un recorrido ún
 ico por la vestimenta que ha marcado nuestra historia y cultura.\n\n\nLa C
 asa Salazar acoge dos muestras de artesanía para celebrar la tradición y
  la creatividad en La Palma:La exposición ‘Indumentaria tradicional’ 
 (que se podrá visitar del 18 al 22 de marzo) y ‘La Palma Primavera’ (
 del 25 al 29 de marzo).\n\nLa Consejería de Artesanía del Cabildo de La 
 Palma organiza estas dos muestras de artesanía con el objetivo de poner e
 n valor el trabajo artesanal de la Isla y fomentar su reconocimiento\, tan
 to a nivel local como regional.\n\nLa muestra\, titulada Indumentaria trad
 icional\, se desarrollará del 18 al 22 de marzo de 2025\, en horario de 1
 0:00 a 20:00 horas. En esta exhibición\, los asistentes podrán conocer e
 n detalle la riqueza de la vestimenta tradicional palmera\, con piezas ela
 boradas por artesanos especializados en la confección de trajes típicos 
 y accesorios representativos de la cultura insular.\n\nPor otro lado\, del
  25 al 29 de marzo de 2025\, se llevará a cabo la muestra La Palma Primav
 era\, una exhibición que reunirá una amplia variedad de productos artesa
 nales inspirados en la naturaleza y la primavera\, reflejando la creativid
 ad y diversidad de la artesanía palmera.\n\n\n\n\n\nHorario: De 10:00 a 2
 0:00 h\n
ATTACH;FMTTYPE=image/jpeg:https://www.larevistadelapalma.com/wp-content/up
 loads/2025/02/Muestra-Indumentaria-tradicional-Casa-Salazar.jpg
CATEGORIES:Exposiciones
LOCATION:Casa principal de Salazar\, Calle Odaly\, 22\, Santa Cruz de La Pa
 lma\, 38700\, España
GEO:28.682275;-17.765795
X-APPLE-STRUCTURED-LOCATION;VALUE=URI;X-ADDRESS=Calle Odaly\, 22\, Santa Cr
 uz de La Palma\, 38700\, España;X-APPLE-RADIUS=100;X-TITLE=Casa principal
  de Salazar:geo:28.682275,-17.765795
END:VEVENT
END:VCALENDAR