BEGIN:VCALENDAR
VERSION:2.0
PRODID:-//wp-events-plugin.com//7.2.3.1//EN
TZID:Europe/London
X-WR-TIMEZONE:Europe/London
BEGIN:VEVENT
UID:3500@larevistadelapalma.com
DTSTART:20241217T163000Z
DTEND:20241217T180000Z
DTSTAMP:20241213T160250Z
URL:https://www.larevistadelapalma.com/events/muestra-teatro-navideno-escu
 ela-pilar-rey/
SUMMARY:Muestra de teatro navideño por la Escuela Pilar Rey
DESCRIPTION:\nEl Teatro Circo de Marte acogerá sobre las tablas al alumnad
 o de la Escuela de Teatro Pilar Rey en su muestra anual de teatro navideñ
 o. La representación se llevará a cabo el próximo 17 de diciembre a 17:
 30 horas por parte de grupos infantiles y juveniles.\nLa entrada al recint
 o es libre y gratuita hasta completar aforo.\n\n
ATTACH;FMTTYPE=image/jpeg:https://www.larevistadelapalma.com/wp-content/up
 loads/2024/12/Muestra-de-teatro-navideno.jpg
CATEGORIES:Espectáculos,Teatro
LOCATION:Teatro Circo de Marte\, Calle Virgen de La Luz\, 5\, Santa Cruz de
  La Palma\, 38700\, España
GEO:28.682989;-17.765755
X-APPLE-STRUCTURED-LOCATION;VALUE=URI;X-ADDRESS=Calle Virgen de La Luz\, 5\
 , Santa Cruz de La Palma\, 38700\, España;X-APPLE-RADIUS=100;X-TITLE=Teat
 ro Circo de Marte:geo:28.682989,-17.765755
END:VEVENT
END:VCALENDARBEGIN:VCALENDAR
VERSION:2.0
PRODID:-//wp-events-plugin.com//7.2.3.1//EN
TZID:Europe/London
X-WR-TIMEZONE:Europe/London
BEGIN:VEVENT
UID:3500@larevistadelapalma.com
DTSTART:20241217T163000Z
DTEND:20241217T180000Z
DTSTAMP:20241213T160250Z
URL:https://www.larevistadelapalma.com/events/muestra-teatro-navideno-escu
 ela-pilar-rey/
SUMMARY:Muestra de teatro navideño por la Escuela Pilar Rey
DESCRIPTION:\nEl Teatro Circo de Marte acogerá sobre las tablas al alumnad
 o de la Escuela de Teatro Pilar Rey en su muestra anual de teatro navideñ
 o. La representación se llevará a cabo el próximo 17 de diciembre a 17:
 30 horas por parte de grupos infantiles y juveniles.\nLa entrada al recint
 o es libre y gratuita hasta completar aforo.\n\n
ATTACH;FMTTYPE=image/jpeg:https://www.larevistadelapalma.com/wp-content/up
 loads/2024/12/Muestra-de-teatro-navideno.jpg
CATEGORIES:Espectáculos,Teatro
LOCATION:Teatro Circo de Marte\, Calle Virgen de La Luz\, 5\, Santa Cruz de
  La Palma\, 38700\, España
GEO:28.682989;-17.765755
X-APPLE-STRUCTURED-LOCATION;VALUE=URI;X-ADDRESS=Calle Virgen de La Luz\, 5\
 , Santa Cruz de La Palma\, 38700\, España;X-APPLE-RADIUS=100;X-TITLE=Teat
 ro Circo de Marte:geo:28.682989,-17.765755
END:VEVENT
END:VCALENDAR