BEGIN:VCALENDAR
VERSION:2.0
PRODID:-//wp-events-plugin.com//7.2.3.1//EN
TZID:Europe/London
X-WR-TIMEZONE:Europe/London
BEGIN:VEVENT
UID:3640@larevistadelapalma.com
DTSTART:20250316T110000Z
DTEND:20250316T123000Z
DTSTAMP:20250307T221732Z
URL:https://www.larevistadelapalma.com/events/mujeres-de-aridane-en-la-voz
 -de-angel-acosta/
SUMMARY:"Mujeres de Aridane en la Voz de Ángel Acosta"
DESCRIPTION:Esta presentación es una mezcla de teatro\, música y narraci
 ón y busca rendir homenaje a aquellas mujeres que han dejado una huella i
 mborrable en la historia de la comunidad.
ATTACH;FMTTYPE=image/jpeg:https://www.larevistadelapalma.com/wp-content/up
 loads/2025/03/Mujeres-de-Aridane.jpg
CATEGORIES:Espectáculos
LOCATION:Casa de La Cultura de Los Llanos de Aridane\, : C. Real\, 8\, Los 
 Llanos de Aridane \, 38760\, España
GEO:28.658651;-17.913512
X-APPLE-STRUCTURED-LOCATION;VALUE=URI;X-ADDRESS=: C. Real\, 8\, Los Llanos 
 de Aridane \, 38760\, España;X-APPLE-RADIUS=100;X-TITLE=Casa de La Cultur
 a de Los Llanos de Aridane:geo:28.658651,-17.913512
END:VEVENT
END:VCALENDARBEGIN:VCALENDAR
VERSION:2.0
PRODID:-//wp-events-plugin.com//7.2.3.1//EN
TZID:Europe/London
X-WR-TIMEZONE:Europe/London
BEGIN:VEVENT
UID:3640@larevistadelapalma.com
DTSTART:20250316T110000Z
DTEND:20250316T123000Z
DTSTAMP:20250307T221732Z
URL:https://www.larevistadelapalma.com/events/mujeres-de-aridane-en-la-voz
 -de-angel-acosta/
SUMMARY:"Mujeres de Aridane en la Voz de Ángel Acosta"
DESCRIPTION:Esta presentación es una mezcla de teatro\, música y narraci
 ón y busca rendir homenaje a aquellas mujeres que han dejado una huella i
 mborrable en la historia de la comunidad.
ATTACH;FMTTYPE=image/jpeg:https://www.larevistadelapalma.com/wp-content/up
 loads/2025/03/Mujeres-de-Aridane.jpg
CATEGORIES:Espectáculos
LOCATION:Casa de La Cultura de Los Llanos de Aridane\, : C. Real\, 8\, Los 
 Llanos de Aridane \, 38760\, España
GEO:28.658651;-17.913512
X-APPLE-STRUCTURED-LOCATION;VALUE=URI;X-ADDRESS=: C. Real\, 8\, Los Llanos 
 de Aridane \, 38760\, España;X-APPLE-RADIUS=100;X-TITLE=Casa de La Cultur
 a de Los Llanos de Aridane:geo:28.658651,-17.913512
END:VEVENT
END:VCALENDAR