BEGIN:VCALENDAR
VERSION:2.0
PRODID:-//wp-events-plugin.com//7.2.3.1//EN
TZID:Europe/London
X-WR-TIMEZONE:Europe/London
BEGIN:VEVENT
UID:638@larevistadelapalma.com
DTSTART:20230908T190000Z
DTEND:20230908T203000Z
DTSTAMP:20230903T213117Z
URL:https://www.larevistadelapalma.com/events/mujeres-que-vuelan-con-cabra
 s/
SUMMARY:“Mujeres que vuelan con cabras”
DESCRIPTION:“Mujeres que vuelan con cabras” es un espectáculo de teatr
 o sensorial que quiere contar historias y leyendas donde la realidad y la 
 fantasía se mezclan hasta llegar a lo profundo de nuestra autenticidad.\n
 Es una búsqueda a través de la historia de lo femenino y de su poder\, q
 ue utiliza cuentos ancestrales y sίmbolos propios del folclore popular. 
 Una búsqueda que empieza de los rituales arcaicos de la tradición celta 
 y se funde con la cultura guanche.
ATTACH;FMTTYPE=image/jpeg:https://www.larevistadelapalma.com/wp-content/up
 loads/2023/09/Mujeres-que-vuelan-con-cabras.jpg
CATEGORIES:Espectáculos,Teatro
LOCATION:Espacio Cultural El Secadero\, C. Rosal\, 3\,\, Los Llanos de Arid
 ane\, 38760\, España
GEO:28.659406;-17.907147
X-APPLE-STRUCTURED-LOCATION;VALUE=URI;X-ADDRESS=C. Rosal\, 3\,\, Los Llanos
  de Aridane\, 38760\, España;X-APPLE-RADIUS=100;X-TITLE=Espacio Cultural 
 El Secadero:geo:28.659406,-17.907147
END:VEVENT
END:VCALENDARBEGIN:VCALENDAR
VERSION:2.0
PRODID:-//wp-events-plugin.com//7.2.3.1//EN
TZID:Europe/London
X-WR-TIMEZONE:Europe/London
BEGIN:VEVENT
UID:638@larevistadelapalma.com
DTSTART:20230908T190000Z
DTEND:20230908T203000Z
DTSTAMP:20230903T213117Z
URL:https://www.larevistadelapalma.com/events/mujeres-que-vuelan-con-cabra
 s/
SUMMARY:“Mujeres que vuelan con cabras”
DESCRIPTION:“Mujeres que vuelan con cabras” es un espectáculo de teatr
 o sensorial que quiere contar historias y leyendas donde la realidad y la 
 fantasía se mezclan hasta llegar a lo profundo de nuestra autenticidad.\n
 Es una búsqueda a través de la historia de lo femenino y de su poder\, q
 ue utiliza cuentos ancestrales y sίmbolos propios del folclore popular. 
 Una búsqueda que empieza de los rituales arcaicos de la tradición celta 
 y se funde con la cultura guanche.
ATTACH;FMTTYPE=image/jpeg:https://www.larevistadelapalma.com/wp-content/up
 loads/2023/09/Mujeres-que-vuelan-con-cabras.jpg
CATEGORIES:Espectáculos,Teatro
LOCATION:Espacio Cultural El Secadero\, C. Rosal\, 3\,\, Los Llanos de Arid
 ane\, 38760\, España
GEO:28.659406;-17.907147
X-APPLE-STRUCTURED-LOCATION;VALUE=URI;X-ADDRESS=C. Rosal\, 3\,\, Los Llanos
  de Aridane\, 38760\, España;X-APPLE-RADIUS=100;X-TITLE=Espacio Cultural 
 El Secadero:geo:28.659406,-17.907147
END:VEVENT
END:VCALENDAR