BEGIN:VCALENDAR
VERSION:2.0
PRODID:-//wp-events-plugin.com//7.2.3.1//EN
TZID:Europe/London
X-WR-TIMEZONE:Europe/London
BEGIN:VEVENT
UID:3757@larevistadelapalma.com
DTSTART:20250528T103000Z
DTEND:20250528T120000Z
DTSTAMP:20250524T214314Z
URL:https://www.larevistadelapalma.com/events/music-for-you-musica-clasica
 -y-popular-para-personas-con-discapacidad/
SUMMARY:‘Music For You’: Música clásica y popular para personas con d
 iscapacidad
DESCRIPTION:El primer concierto del proyecto Music for you. ¡Tú eliges la
  música! será el 28 de mayo en el Museo del Puro.\n\nEl Cabildo de La Pa
 lma\, a través del Servicio de Acción Social\, acerca la música clásic
 a y popular a personas con discapacidad a través del proyecto Music For Y
 ou\, una iniciativa que brinda a estas personas un espacio cultural y de c
 onvivencia y fomenta la apreciación musical y el bienestar emocional de q
 uienes participan en la misma.\n\nEl proyecto Music For You busca ofrecer
  un repertorio accesible y diverso\, en un ambiente inclusivo y acogedor a
  través de una serie de cuatro conciertos\, el primero de los cuales tend
 rá lugar el próximo 28 de mayo\, a las 11:30 horas\, en el Museo del Pur
 o de Breña Alta\, a cargo del trío de cuerdas Musiclab.\n\nEl espectácu
 lo está dirigido a personas mayores de 18 años y sin límite de edad y r
 equiere de inscripción a través de este formulario o contactando al corr
 eo paula.polo@cablapalma.es con el objetivo de garantizar una experiencia
  lo más personalizada posible a cada persona interesada.\n\nObjetivos esp
 ecíficos del proyecto\n\nLa Consejería de Acción Social del Cabildo de 
 La Palma persigue con esta iniciativa promover la inclusión y accesibilid
 ad cultural para personas con discapacidad mediante conciertos de alta cal
 idad\; fomentar el bienestar emocional de los asistentes a través de la m
 úsica\, promoviendo la socialización y fortaleciendo el sentido de comun
 idad\; así como ofrecer un repertorio adaptado a los gustos y preferencia
 s de la audiencia\, combinando música clásica con piezas populares de é
 pocas significativas para las personas asistentes.\n\nAdemás\, Music For
  You también busca crear espacios de convivencia donde las personas con 
 discapacidad puedan disfrutar de un entorno seguro\, agradable y enriquece
 dor y promover la educación musical a través de breves explicaciones sob
 re las piezas y compositores antes de cada presentación.\n\nActividades c
 omplementarias\n\nEn el marco del proyecto también se desarrollarán otro
  tipo de acciones que complementarán la oferta musical\, tales como charl
 as de introducción a la música\, sesiones de conversación y talleres de
  memorias musicales.\n\nLa Consejería de Acción Social del Cabildo de La
  Palma irá informando sobre las diferentes acciones.\n\n 
ATTACH;FMTTYPE=image/jpeg:https://www.larevistadelapalma.com/wp-content/up
 loads/2025/05/musicforyou.jpg
CATEGORIES:Conciertos,Música
LOCATION:Museo del Puro Palmero\, Parque de Los Álamos\, Breña Alta\, 387
 10\, España
GEO:28.666832;-17.787186
X-APPLE-STRUCTURED-LOCATION;VALUE=URI;X-ADDRESS=Parque de Los Álamos\, Bre
 ña Alta\, 38710\, España;X-APPLE-RADIUS=100;X-TITLE=Museo del Puro Palme
 ro:geo:28.666832,-17.787186
END:VEVENT
END:VCALENDARBEGIN:VCALENDAR
VERSION:2.0
PRODID:-//wp-events-plugin.com//7.2.3.1//EN
TZID:Europe/London
X-WR-TIMEZONE:Europe/London
BEGIN:VEVENT
UID:3757@larevistadelapalma.com
DTSTART:20250528T103000Z
DTEND:20250528T120000Z
DTSTAMP:20250524T214314Z
URL:https://www.larevistadelapalma.com/events/music-for-you-musica-clasica
 -y-popular-para-personas-con-discapacidad/
SUMMARY:‘Music For You’: Música clásica y popular para personas con d
 iscapacidad
DESCRIPTION:El primer concierto del proyecto Music for you. ¡Tú eliges la
  música! será el 28 de mayo en el Museo del Puro.\n\nEl Cabildo de La Pa
 lma\, a través del Servicio de Acción Social\, acerca la música clásic
 a y popular a personas con discapacidad a través del proyecto Music For Y
 ou\, una iniciativa que brinda a estas personas un espacio cultural y de c
 onvivencia y fomenta la apreciación musical y el bienestar emocional de q
 uienes participan en la misma.\n\nEl proyecto Music For You busca ofrecer
  un repertorio accesible y diverso\, en un ambiente inclusivo y acogedor a
  través de una serie de cuatro conciertos\, el primero de los cuales tend
 rá lugar el próximo 28 de mayo\, a las 11:30 horas\, en el Museo del Pur
 o de Breña Alta\, a cargo del trío de cuerdas Musiclab.\n\nEl espectácu
 lo está dirigido a personas mayores de 18 años y sin límite de edad y r
 equiere de inscripción a través de este formulario o contactando al corr
 eo paula.polo@cablapalma.es con el objetivo de garantizar una experiencia
  lo más personalizada posible a cada persona interesada.\n\nObjetivos esp
 ecíficos del proyecto\n\nLa Consejería de Acción Social del Cabildo de 
 La Palma persigue con esta iniciativa promover la inclusión y accesibilid
 ad cultural para personas con discapacidad mediante conciertos de alta cal
 idad\; fomentar el bienestar emocional de los asistentes a través de la m
 úsica\, promoviendo la socialización y fortaleciendo el sentido de comun
 idad\; así como ofrecer un repertorio adaptado a los gustos y preferencia
 s de la audiencia\, combinando música clásica con piezas populares de é
 pocas significativas para las personas asistentes.\n\nAdemás\, Music For
  You también busca crear espacios de convivencia donde las personas con 
 discapacidad puedan disfrutar de un entorno seguro\, agradable y enriquece
 dor y promover la educación musical a través de breves explicaciones sob
 re las piezas y compositores antes de cada presentación.\n\nActividades c
 omplementarias\n\nEn el marco del proyecto también se desarrollarán otro
  tipo de acciones que complementarán la oferta musical\, tales como charl
 as de introducción a la música\, sesiones de conversación y talleres de
  memorias musicales.\n\nLa Consejería de Acción Social del Cabildo de La
  Palma irá informando sobre las diferentes acciones.\n\n 
ATTACH;FMTTYPE=image/jpeg:https://www.larevistadelapalma.com/wp-content/up
 loads/2025/05/musicforyou.jpg
CATEGORIES:Conciertos,Música
LOCATION:Museo del Puro Palmero\, Parque de Los Álamos\, Breña Alta\, 387
 10\, España
GEO:28.666832;-17.787186
X-APPLE-STRUCTURED-LOCATION;VALUE=URI;X-ADDRESS=Parque de Los Álamos\, Bre
 ña Alta\, 38710\, España;X-APPLE-RADIUS=100;X-TITLE=Museo del Puro Palme
 ro:geo:28.666832,-17.787186
END:VEVENT
END:VCALENDAR