BEGIN:VCALENDAR
VERSION:2.0
PRODID:-//wp-events-plugin.com//7.2.3.1//EN
TZID:Europe/London
X-WR-TIMEZONE:Europe/London
BEGIN:VEVENT
UID:3239@larevistadelapalma.com
DTSTART:20241026T193000Z
DTEND:20241026T210000Z
DTSTAMP:20241014T174202Z
URL:https://www.larevistadelapalma.com/events/musica-clasica-en-los-centro
 s-sociosanitarios-con-una-nueva-edicion-del-festival-impulso/
SUMMARY:Cuarta edición del Festival Impulso: Bach y sus raíces
DESCRIPTION:Se realizarán un total de 18 conciertos sociales\, además de 
 una representación abierta al público en el Museo Insular de San Francis
 co.\nEl Cabildo de La Palma lleva la música clásica a los centros socios
 anitarios de la Isla\, con la cuarta edición del Festival Impulso\, este 
 años dedicado a Bach y sus raíces. \n\nLa presentación del programa\, 
 realizada por el presidente insular\, Sergio Rodríguez\, la consejera de 
 Acción Social\, Ángeles Fernández\, y la responsable de la programació
 n\, Natalia Zamora\, permitió exponer la dinámica de un total de 18 conc
 iertos sociales y uno abierto al público\, el 26 de octubre\, a partir de
  las 20:30 horas\, en el Museo Insular de San Francisco.\n\nSergio Rodríg
 uez destacó que el Festival Impulso busca acercar la música clásica\, t
 anto desde su vertiente artístico-cultural\, como en la educativa y solid
 aria\, en una clara apuesta por la realización de conciertos de un gran n
 ivel artístico internacional y la repercusión social directa que esto co
 nlleva y\, por otro lado\, por la divulgación de la música clásica y ta
 lleres educativos. \n\nEso\, además\, indicó el presidente\, dirigiénd
 ose a un público especial como son los residentes en el Hospital de Dolor
 es\, a la Red de Rehabilitación Psicosocial de Salud de La Palma\, así c
 omo al Centro Penitenciario y en residencia de mayores de toda la Isla\, f
 inalizando la actividad con un concierto abierto al público. \n\nPor su 
 parte\, Ángeles Fernández reseñó que el Festival Impulso es un evento 
 que permite llevar la cultura a espacios en los que habitualmente no se ti
 ene la oportunidad de disfrutar de este tipo de conciertos \, consideránd
 olos clave para continuar dinamizando la vida de las personas que forman p
 arte de los mismos. \n\nNatalia Zamora indicó que esta edición del fest
 ival se centrará en la música vocal e instrumental de Juan Sebastian Bac
 h y sus antecesores\, interpretados por músicos con una proyección inter
 nacional llegados desde Inglaterra\, Canadá\, Bélgica y Holanda\, expert
 os en la interpretación historicista\, tocando instrumentos originales o 
 copias de época barroca. \n\nAdemás\, la soprano británica Hannah Ely 
 cantará junto a una versión extendida del ensemble Ayres Extemporae\, qu
 e recientemente han sido galardonados con el prestigioso concurso internac
 ional York Early Music Competition. 
ATTACH;FMTTYPE=image/jpeg:https://www.larevistadelapalma.com/wp-content/up
 loads/2024/09/Festival-Impulso.jpg
CATEGORIES:Festivales/Fiestas,Música
LOCATION:Museo Insular de La Palma\, Plaza de San Francisco\, 3\, Santa Cru
 z de La Palma\, 38700\, España
GEO:28.687;-17.762092
X-APPLE-STRUCTURED-LOCATION;VALUE=URI;X-ADDRESS=Plaza de San Francisco\, 3\
 , Santa Cruz de La Palma\, 38700\, España;X-APPLE-RADIUS=100;X-TITLE=Muse
 o Insular de La Palma:geo:28.687,-17.762092
END:VEVENT
END:VCALENDARBEGIN:VCALENDAR
VERSION:2.0
PRODID:-//wp-events-plugin.com//7.2.3.1//EN
TZID:Europe/London
X-WR-TIMEZONE:Europe/London
BEGIN:VEVENT
UID:3239@larevistadelapalma.com
DTSTART:20241026T193000Z
DTEND:20241026T210000Z
DTSTAMP:20241014T174202Z
URL:https://www.larevistadelapalma.com/events/musica-clasica-en-los-centro
 s-sociosanitarios-con-una-nueva-edicion-del-festival-impulso/
SUMMARY:Cuarta edición del Festival Impulso: Bach y sus raíces
DESCRIPTION:Se realizarán un total de 18 conciertos sociales\, además de 
 una representación abierta al público en el Museo Insular de San Francis
 co.\nEl Cabildo de La Palma lleva la música clásica a los centros socios
 anitarios de la Isla\, con la cuarta edición del Festival Impulso\, este 
 años dedicado a Bach y sus raíces. \n\nLa presentación del programa\, 
 realizada por el presidente insular\, Sergio Rodríguez\, la consejera de 
 Acción Social\, Ángeles Fernández\, y la responsable de la programació
 n\, Natalia Zamora\, permitió exponer la dinámica de un total de 18 conc
 iertos sociales y uno abierto al público\, el 26 de octubre\, a partir de
  las 20:30 horas\, en el Museo Insular de San Francisco.\n\nSergio Rodríg
 uez destacó que el Festival Impulso busca acercar la música clásica\, t
 anto desde su vertiente artístico-cultural\, como en la educativa y solid
 aria\, en una clara apuesta por la realización de conciertos de un gran n
 ivel artístico internacional y la repercusión social directa que esto co
 nlleva y\, por otro lado\, por la divulgación de la música clásica y ta
 lleres educativos. \n\nEso\, además\, indicó el presidente\, dirigiénd
 ose a un público especial como son los residentes en el Hospital de Dolor
 es\, a la Red de Rehabilitación Psicosocial de Salud de La Palma\, así c
 omo al Centro Penitenciario y en residencia de mayores de toda la Isla\, f
 inalizando la actividad con un concierto abierto al público. \n\nPor su 
 parte\, Ángeles Fernández reseñó que el Festival Impulso es un evento 
 que permite llevar la cultura a espacios en los que habitualmente no se ti
 ene la oportunidad de disfrutar de este tipo de conciertos \, consideránd
 olos clave para continuar dinamizando la vida de las personas que forman p
 arte de los mismos. \n\nNatalia Zamora indicó que esta edición del fest
 ival se centrará en la música vocal e instrumental de Juan Sebastian Bac
 h y sus antecesores\, interpretados por músicos con una proyección inter
 nacional llegados desde Inglaterra\, Canadá\, Bélgica y Holanda\, expert
 os en la interpretación historicista\, tocando instrumentos originales o 
 copias de época barroca. \n\nAdemás\, la soprano británica Hannah Ely 
 cantará junto a una versión extendida del ensemble Ayres Extemporae\, qu
 e recientemente han sido galardonados con el prestigioso concurso internac
 ional York Early Music Competition. 
ATTACH;FMTTYPE=image/jpeg:https://www.larevistadelapalma.com/wp-content/up
 loads/2024/09/Festival-Impulso.jpg
CATEGORIES:Festivales/Fiestas,Música
LOCATION:Museo Insular de La Palma\, Plaza de San Francisco\, 3\, Santa Cru
 z de La Palma\, 38700\, España
GEO:28.687;-17.762092
X-APPLE-STRUCTURED-LOCATION;VALUE=URI;X-ADDRESS=Plaza de San Francisco\, 3\
 , Santa Cruz de La Palma\, 38700\, España;X-APPLE-RADIUS=100;X-TITLE=Muse
 o Insular de La Palma:geo:28.687,-17.762092
END:VEVENT
END:VCALENDAR