BEGIN:VCALENDAR
VERSION:2.0
PRODID:-//wp-events-plugin.com//7.2.3.1//EN
TZID:Europe/London
X-WR-TIMEZONE:Europe/London
BEGIN:VEVENT
UID:4558@larevistadelapalma.com
DTSTART:20260306T163000Z
DTEND:20260306T183000Z
DTSTAMP:20260304T224527Z
URL:https://www.larevistadelapalma.com/events/musica-en-vivo-con-rebels-en
 -el-rastro-de-finca-la-principal/
SUMMARY:Música en vivo con "Rebels" en el rastro de Finca La Principal
DESCRIPTION:\n“REBEL’S”: PAULA REY – Voz y LEO ROMERO – Guitarra
 .\nBanda de Rock &amp\; Roll fundada en 2025\, con amplia formación music
 al\, que rinde tributo a grandes bandas como AC/DC\, Guns &amp\; Roses\, L
 ed Zeppelin o Creedence. Su propósito: sentir con pasión el espíritu de
 l rock y dejar que la música te lleve\, en libertad\, a lugares desconoci
 dos.\n\n\n\nEl mercadillo estará abierto\, como cada viernes\, de 14:00 a
  20:00 horas. Y la música será a partir de las 17:30 horas.\nUn lugar pa
 ra disfrutar de productos artesanales\, antigüedades\, artículos de segu
 nda mano\, y productos del campo palmero.\n
ATTACH;FMTTYPE=image/jpeg:https://www.larevistadelapalma.com/wp-content/up
 loads/2026/03/3-6-rebles-finca-la-principal.jpg
CATEGORIES:Ferias y mercados,Otras propuestas,Varios
LOCATION:Finca La Principal\, Cam. del Aeropuerto\, Breña Alta\, 38710\, E
 spaña
GEO:28.675948;-17.785806
X-APPLE-STRUCTURED-LOCATION;VALUE=URI;X-ADDRESS=Cam. del Aeropuerto\, Breñ
 a Alta\, 38710\, España;X-APPLE-RADIUS=100;X-TITLE=Finca La Principal:geo
 :28.675948,-17.785806
END:VEVENT
END:VCALENDARBEGIN:VCALENDAR
VERSION:2.0
PRODID:-//wp-events-plugin.com//7.2.3.1//EN
TZID:Europe/London
X-WR-TIMEZONE:Europe/London
BEGIN:VEVENT
UID:4558@larevistadelapalma.com
DTSTART:20260306T163000Z
DTEND:20260306T183000Z
DTSTAMP:20260304T224527Z
URL:https://www.larevistadelapalma.com/events/musica-en-vivo-con-rebels-en
 -el-rastro-de-finca-la-principal/
SUMMARY:Música en vivo con "Rebels" en el rastro de Finca La Principal
DESCRIPTION:\n“REBEL’S”: PAULA REY – Voz y LEO ROMERO – Guitarra
 .\nBanda de Rock &amp\; Roll fundada en 2025\, con amplia formación music
 al\, que rinde tributo a grandes bandas como AC/DC\, Guns &amp\; Roses\, L
 ed Zeppelin o Creedence. Su propósito: sentir con pasión el espíritu de
 l rock y dejar que la música te lleve\, en libertad\, a lugares desconoci
 dos.\n\n\n\nEl mercadillo estará abierto\, como cada viernes\, de 14:00 a
  20:00 horas. Y la música será a partir de las 17:30 horas.\nUn lugar pa
 ra disfrutar de productos artesanales\, antigüedades\, artículos de segu
 nda mano\, y productos del campo palmero.\n
ATTACH;FMTTYPE=image/jpeg:https://www.larevistadelapalma.com/wp-content/up
 loads/2026/03/3-6-rebles-finca-la-principal.jpg
CATEGORIES:Ferias y mercados,Otras propuestas,Varios
LOCATION:Finca La Principal\, Cam. del Aeropuerto\, Breña Alta\, 38710\, E
 spaña
GEO:28.675948;-17.785806
X-APPLE-STRUCTURED-LOCATION;VALUE=URI;X-ADDRESS=Cam. del Aeropuerto\, Breñ
 a Alta\, 38710\, España;X-APPLE-RADIUS=100;X-TITLE=Finca La Principal:geo
 :28.675948,-17.785806
END:VEVENT
END:VCALENDAR