BEGIN:VCALENDAR
VERSION:2.0
PRODID:-//wp-events-plugin.com//7.2.3.1//EN
TZID:Europe/London
X-WR-TIMEZONE:Europe/London
BEGIN:VEVENT
UID:3697@larevistadelapalma.com
DTSTART:20250504T180000Z
DTEND:20250504T193000Z
DTSTAMP:20250415T180611Z
URL:https://www.larevistadelapalma.com/events/musicas-del-sur-circo-de-mar
 te/
SUMMARY:Concierto de "Defmaa Maadef" en el Circo de Marte
DESCRIPTION:Hip hop\, afrobeat y sonidos electrónicos desde Senegal.\n‘M
 úsicas del Sur’ nace para crear alianzas con otros proyectos que se est
 én desarrollando en la isla o fuera de ella\, y en los que músicas de ot
 ros países o continentes encuentren en el Teatro Circo de Marte un espaci
 o donde mostrarse y conectar con el público.\n\nEn esta primera ocasión\
 , el grupo de música senegalesa Defmaa Maadef\, que participará en la XX
  Feria de las Culturas del Mundo de Puntagorda la noche anterior en abiert
 o\, estará el domingo 4 de mayo a las 19 horas en el Teatro\, con la mism
 a energía pero en un formato más íntimo.\nComprar entradas &gt\;&gt\; 
 \n\nDefmaa Maadef es un encuentro musical entre dos reinas de la escena ur
 bana senegalesa y africana. Mamy Victory\, conocida por ser una detonació
 n de energía en el escenario\, lleva unos años trabajando para brillar e
 n los diferentes escenarios que la han acogido en Senegal. Defa\, antigua 
 miembra del grupo ‘Rafa’ y corista por excelencia del grupo DaaraJFami
 ly\, es una de las voces de RnB más solicitadas de Senegal. \nEste encue
 ntro entre las dos crea una explosión en el escenario y aporta un nuevo a
 liento a la escena musical de Dakar y de Senegal. Defmaa Maadef es el naci
 miento de dos nuevas reinas de la escena urbana de Dakar\, dispuestas a co
 nquistar el mundo. Las melodías y los temas del grupo están firmemente a
 rraigados en Senegal\, pero están abiertos a las influencias musicales in
 ternacionales.\n\n
ATTACH;FMTTYPE=image/jpeg:https://www.larevistadelapalma.com/wp-content/up
 loads/2025/04/musicas-del-sur-def-maa-maa-def-67effc25ad5489.14045861-scal
 ed.jpg
CATEGORIES:Conciertos,Música
LOCATION:Teatro Circo de Marte\, Calle Virgen de La Luz\, 5\, Santa Cruz de
  La Palma\, 38700\, España
GEO:28.682989;-17.765755
X-APPLE-STRUCTURED-LOCATION;VALUE=URI;X-ADDRESS=Calle Virgen de La Luz\, 5\
 , Santa Cruz de La Palma\, 38700\, España;X-APPLE-RADIUS=100;X-TITLE=Teat
 ro Circo de Marte:geo:28.682989,-17.765755
END:VEVENT
END:VCALENDARBEGIN:VCALENDAR
VERSION:2.0
PRODID:-//wp-events-plugin.com//7.2.3.1//EN
TZID:Europe/London
X-WR-TIMEZONE:Europe/London
BEGIN:VEVENT
UID:3697@larevistadelapalma.com
DTSTART:20250504T180000Z
DTEND:20250504T193000Z
DTSTAMP:20250415T180611Z
URL:https://www.larevistadelapalma.com/events/musicas-del-sur-circo-de-mar
 te/
SUMMARY:Concierto de "Defmaa Maadef" en el Circo de Marte
DESCRIPTION:Hip hop\, afrobeat y sonidos electrónicos desde Senegal.\n‘M
 úsicas del Sur’ nace para crear alianzas con otros proyectos que se est
 én desarrollando en la isla o fuera de ella\, y en los que músicas de ot
 ros países o continentes encuentren en el Teatro Circo de Marte un espaci
 o donde mostrarse y conectar con el público.\n\nEn esta primera ocasión\
 , el grupo de música senegalesa Defmaa Maadef\, que participará en la XX
  Feria de las Culturas del Mundo de Puntagorda la noche anterior en abiert
 o\, estará el domingo 4 de mayo a las 19 horas en el Teatro\, con la mism
 a energía pero en un formato más íntimo.\nComprar entradas &gt\;&gt\; 
 \n\nDefmaa Maadef es un encuentro musical entre dos reinas de la escena ur
 bana senegalesa y africana. Mamy Victory\, conocida por ser una detonació
 n de energía en el escenario\, lleva unos años trabajando para brillar e
 n los diferentes escenarios que la han acogido en Senegal. Defa\, antigua 
 miembra del grupo ‘Rafa’ y corista por excelencia del grupo DaaraJFami
 ly\, es una de las voces de RnB más solicitadas de Senegal. \nEste encue
 ntro entre las dos crea una explosión en el escenario y aporta un nuevo a
 liento a la escena musical de Dakar y de Senegal. Defmaa Maadef es el naci
 miento de dos nuevas reinas de la escena urbana de Dakar\, dispuestas a co
 nquistar el mundo. Las melodías y los temas del grupo están firmemente a
 rraigados en Senegal\, pero están abiertos a las influencias musicales in
 ternacionales.\n\n
ATTACH;FMTTYPE=image/jpeg:https://www.larevistadelapalma.com/wp-content/up
 loads/2025/04/musicas-del-sur-def-maa-maa-def-67effc25ad5489.14045861-scal
 ed.jpg
CATEGORIES:Conciertos,Música
LOCATION:Teatro Circo de Marte\, Calle Virgen de La Luz\, 5\, Santa Cruz de
  La Palma\, 38700\, España
GEO:28.682989;-17.765755
X-APPLE-STRUCTURED-LOCATION;VALUE=URI;X-ADDRESS=Calle Virgen de La Luz\, 5\
 , Santa Cruz de La Palma\, 38700\, España;X-APPLE-RADIUS=100;X-TITLE=Teat
 ro Circo de Marte:geo:28.682989,-17.765755
END:VEVENT
END:VCALENDAR