BEGIN:VCALENDAR
VERSION:2.0
PRODID:-//wp-events-plugin.com//7.2.3.1//EN
TZID:Europe/London
X-WR-TIMEZONE:Europe/London
BEGIN:VEVENT
UID:3947@larevistadelapalma.com
DTSTART;VALUE=DATE:20250829
DTEND;VALUE=DATE:20250831
DTSTAMP:20250828T212907Z
URL:https://www.larevistadelapalma.com/events/nao-market/
SUMMARY:Nao Market
DESCRIPTION:Este 29 y 30 de agosto\, Nao Market con música\, zona gastro\,
  photocall 360º\, venta de merchandising...\n\nDentro de la programación
  del Cortonaos Film Festival.\n\n&nbsp\;
ATTACH;FMTTYPE=image/jpeg:https://www.larevistadelapalma.com/wp-content/up
 loads/2025/08/Naomarket-de-Cortonaos.jpg
CATEGORIES:Ferias y mercados,Gastro,Otras propuestas,Varios
LOCATION:Playa de Puerto Naos\, Puerto Naos\, Los Llanos de Aridane \, 3876
 9\, España
GEO:28.587524;-17.910531
X-APPLE-STRUCTURED-LOCATION;VALUE=URI;X-ADDRESS=Puerto Naos\, Los Llanos de
  Aridane \, 38769\, España;X-APPLE-RADIUS=100;X-TITLE=Playa de Puerto Nao
 s:geo:28.587524,-17.910531
END:VEVENT
END:VCALENDARBEGIN:VCALENDAR
VERSION:2.0
PRODID:-//wp-events-plugin.com//7.2.3.1//EN
TZID:Europe/London
X-WR-TIMEZONE:Europe/London
BEGIN:VEVENT
UID:3947@larevistadelapalma.com
DTSTART;VALUE=DATE:20250829
DTEND;VALUE=DATE:20250831
DTSTAMP:20250828T212907Z
URL:https://www.larevistadelapalma.com/events/nao-market/
SUMMARY:Nao Market
DESCRIPTION:Este 29 y 30 de agosto\, Nao Market con música\, zona gastro\,
  photocall 360º\, venta de merchandising...\n\nDentro de la programación
  del Cortonaos Film Festival.\n\n&nbsp\;
ATTACH;FMTTYPE=image/jpeg:https://www.larevistadelapalma.com/wp-content/up
 loads/2025/08/Naomarket-de-Cortonaos.jpg
CATEGORIES:Ferias y mercados,Gastro,Otras propuestas,Varios
LOCATION:Playa de Puerto Naos\, Puerto Naos\, Los Llanos de Aridane \, 3876
 9\, España
GEO:28.587524;-17.910531
X-APPLE-STRUCTURED-LOCATION;VALUE=URI;X-ADDRESS=Puerto Naos\, Los Llanos de
  Aridane \, 38769\, España;X-APPLE-RADIUS=100;X-TITLE=Playa de Puerto Nao
 s:geo:28.587524,-17.910531
END:VEVENT
END:VCALENDAR