BEGIN:VCALENDAR
VERSION:2.0
PRODID:-//wp-events-plugin.com//7.2.3.1//EN
TZID:Europe/London
X-WR-TIMEZONE:Europe/London
BEGIN:VEVENT
UID:120@larevistadelapalma.com
DTSTART:20230706T183000Z
DTEND:20230706T194500Z
DTSTAMP:20230701T012219Z
URL:https://www.larevistadelapalma.com/events/narracion-publico-adulto-hec
 tor-ruiz-verde-el-paso/
SUMMARY:Narración para público adulto con Héctor Ruiz Verde\, en El Paso
DESCRIPTION:El ciclo de narración oral para adultos de El Paso prosigue co
 n éxito en su cuarto año congregando en el municipio a los mejores narra
 dores de cuentos de Canarias.
ATTACH;FMTTYPE=image/jpeg:https://www.larevistadelapalma.com/wp-content/up
 loads/2023/07/PALABRAS-EL-PASO_JULIO_MONTERREY.png
CATEGORIES:Cine y Literatura,Literatura
LOCATION:Teatro Monterrey\, C. Antonio Pino Pérez\, 7\,\, El Paso\, 38750\
 , España
GEO:28.651743;-17.881771
X-APPLE-STRUCTURED-LOCATION;VALUE=URI;X-ADDRESS=C. Antonio Pino Pérez\, 7\
 ,\, El Paso\, 38750\, España;X-APPLE-RADIUS=100;X-TITLE=Teatro Monterrey:
 geo:28.651743,-17.881771
END:VEVENT
END:VCALENDARBEGIN:VCALENDAR
VERSION:2.0
PRODID:-//wp-events-plugin.com//7.2.3.1//EN
TZID:Europe/London
X-WR-TIMEZONE:Europe/London
BEGIN:VEVENT
UID:120@larevistadelapalma.com
DTSTART:20230706T183000Z
DTEND:20230706T194500Z
DTSTAMP:20230701T012219Z
URL:https://www.larevistadelapalma.com/events/narracion-publico-adulto-hec
 tor-ruiz-verde-el-paso/
SUMMARY:Narración para público adulto con Héctor Ruiz Verde\, en El Paso
DESCRIPTION:El ciclo de narración oral para adultos de El Paso prosigue co
 n éxito en su cuarto año congregando en el municipio a los mejores narra
 dores de cuentos de Canarias.
ATTACH;FMTTYPE=image/jpeg:https://www.larevistadelapalma.com/wp-content/up
 loads/2023/07/PALABRAS-EL-PASO_JULIO_MONTERREY.png
CATEGORIES:Cine y Literatura,Literatura
LOCATION:Teatro Monterrey\, C. Antonio Pino Pérez\, 7\,\, El Paso\, 38750\
 , España
GEO:28.651743;-17.881771
X-APPLE-STRUCTURED-LOCATION;VALUE=URI;X-ADDRESS=C. Antonio Pino Pérez\, 7\
 ,\, El Paso\, 38750\, España;X-APPLE-RADIUS=100;X-TITLE=Teatro Monterrey:
 geo:28.651743,-17.881771
END:VEVENT
END:VCALENDAR