BEGIN:VCALENDAR
VERSION:2.0
PRODID:-//wp-events-plugin.com//7.2.3.1//EN
TZID:Europe/London
X-WR-TIMEZONE:Europe/London
BEGIN:VEVENT
UID:4431@larevistadelapalma.com
DTSTART:20251227T110000Z
DTEND:20251227T131500Z
DTSTAMP:20251222T165745Z
URL:https://www.larevistadelapalma.com/events/navidad-latina-en-brena-alta
 /
SUMMARY:Navidad latina en Breña Baja
DESCRIPTION:A las 11 horas\, hinchables para niños. A las 12 horas\, DJ T3
 nax. Y  alas 13 horas\, tributo a Olga Tañón\, con Naomi Reverón.
ATTACH;FMTTYPE=image/jpeg:https://www.larevistadelapalma.com/wp-content/up
 loads/2025/12/navidad-latina.jpg
CATEGORIES:Festivales/Fiestas,Música
LOCATION:Plaza de las Madres\, San José\, Breña Baja\, 38712\, España
GEO:28.642202;-17.775828
X-APPLE-STRUCTURED-LOCATION;VALUE=URI;X-ADDRESS=San José\, Breña Baja\, 3
 8712\, España;X-APPLE-RADIUS=100;X-TITLE=Plaza de las Madres:geo:28.64220
 2,-17.775828
END:VEVENT
END:VCALENDARBEGIN:VCALENDAR
VERSION:2.0
PRODID:-//wp-events-plugin.com//7.2.3.1//EN
TZID:Europe/London
X-WR-TIMEZONE:Europe/London
BEGIN:VEVENT
UID:4431@larevistadelapalma.com
DTSTART:20251227T110000Z
DTEND:20251227T131500Z
DTSTAMP:20251222T165745Z
URL:https://www.larevistadelapalma.com/events/navidad-latina-en-brena-alta
 /
SUMMARY:Navidad latina en Breña Baja
DESCRIPTION:A las 11 horas\, hinchables para niños. A las 12 horas\, DJ T3
 nax. Y  alas 13 horas\, tributo a Olga Tañón\, con Naomi Reverón.
ATTACH;FMTTYPE=image/jpeg:https://www.larevistadelapalma.com/wp-content/up
 loads/2025/12/navidad-latina.jpg
CATEGORIES:Festivales/Fiestas,Música
LOCATION:Plaza de las Madres\, San José\, Breña Baja\, 38712\, España
GEO:28.642202;-17.775828
X-APPLE-STRUCTURED-LOCATION;VALUE=URI;X-ADDRESS=San José\, Breña Baja\, 3
 8712\, España;X-APPLE-RADIUS=100;X-TITLE=Plaza de las Madres:geo:28.64220
 2,-17.775828
END:VEVENT
END:VCALENDAR