BEGIN:VCALENDAR
VERSION:2.0
PRODID:-//wp-events-plugin.com//7.2.3.1//EN
TZID:Europe/London
X-WR-TIMEZONE:Europe/London
BEGIN:VEVENT
UID:3569@larevistadelapalma.com
DTSTART;VALUE=DATE:20250131
DTEND;VALUE=DATE:20250203
DTSTAMP:20250130T125226Z
URL:https://www.larevistadelapalma.com/events/naza-martin-tazacorte/
SUMMARY:Exposición de Naza Martín en Avenida 17\, Tazacorte
DESCRIPTION:Naza Martín\, después de su paso por Tenerife para asistir a 
 los Premios CajaCanarias de Artes Plásticas Manolo Millares\, y de una ex
 posición colectiva en Gran Canaria\, vuelve a La Palma\, y en particular 
 a Tazacorte\, ahora con la galería Avenida17.\n\n"Es un placer que en un 
 lugar tan pequeño como La Palma\, la oportunidad de conectar con otras cu
 lturas y de colaborar entre nosotras sea posible. Porque esto nos enriquec
 e a todos y todas."\n\nSi te apetece acompañarla este fin de semana. Inau
 guran exposición endía 31 de enero a las 17:00 horas\, y estarán el sá
 bado y domingo de 11:00 a 17:00 horas.\n\nUna vez más se ha tardado un a
 ño en organizar una exposición. Tenemos muchas otras cosas que hacer\, n
 o nos hacemos más jóvenes\, etc.\, etc.\,etc. Razón de más para espera
 r a Naza y muchos visitantes interesados.\nComo puede verse en el folleto\
 , la inauguración tiene lugar el 31 de Enero en la “Avenida17”\, Call
 e Ángel 8\, a las 17h.\nEl sábado y el domingo la galería está abierta
  de las 11h a las 17h. Naza estará encantada de recibir muchos visitantes
  a los que podrá explicar tranquilamente sus obras.\nSaludos Alexa y Mich
 ael.\n
ATTACH;FMTTYPE=image/jpeg:https://www.larevistadelapalma.com/wp-content/up
 loads/2025/01/Catalogo-de-Especies-2.jpg
CATEGORIES:Exposiciones
LOCATION:Galería Avenida 17\, Tazacorte\, Calle Ángel 8\, Tazacorte\, 387
 70\, España
GEO:28.643958;-17.932794
X-APPLE-STRUCTURED-LOCATION;VALUE=URI;X-ADDRESS=Calle Ángel 8\, Tazacorte\
 , 38770\, España;X-APPLE-RADIUS=100;X-TITLE=Galería Avenida 17\, Tazacor
 te:geo:28.643958,-17.932794
END:VEVENT
END:VCALENDARBEGIN:VCALENDAR
VERSION:2.0
PRODID:-//wp-events-plugin.com//7.2.3.1//EN
TZID:Europe/London
X-WR-TIMEZONE:Europe/London
BEGIN:VEVENT
UID:3569@larevistadelapalma.com
DTSTART;VALUE=DATE:20250131
DTEND;VALUE=DATE:20250203
DTSTAMP:20250130T125226Z
URL:https://www.larevistadelapalma.com/events/naza-martin-tazacorte/
SUMMARY:Exposición de Naza Martín en Avenida 17\, Tazacorte
DESCRIPTION:Naza Martín\, después de su paso por Tenerife para asistir a 
 los Premios CajaCanarias de Artes Plásticas Manolo Millares\, y de una ex
 posición colectiva en Gran Canaria\, vuelve a La Palma\, y en particular 
 a Tazacorte\, ahora con la galería Avenida17.\n\n"Es un placer que en un 
 lugar tan pequeño como La Palma\, la oportunidad de conectar con otras cu
 lturas y de colaborar entre nosotras sea posible. Porque esto nos enriquec
 e a todos y todas."\n\nSi te apetece acompañarla este fin de semana. Inau
 guran exposición endía 31 de enero a las 17:00 horas\, y estarán el sá
 bado y domingo de 11:00 a 17:00 horas.\n\nUna vez más se ha tardado un a
 ño en organizar una exposición. Tenemos muchas otras cosas que hacer\, n
 o nos hacemos más jóvenes\, etc.\, etc.\,etc. Razón de más para espera
 r a Naza y muchos visitantes interesados.\nComo puede verse en el folleto\
 , la inauguración tiene lugar el 31 de Enero en la “Avenida17”\, Call
 e Ángel 8\, a las 17h.\nEl sábado y el domingo la galería está abierta
  de las 11h a las 17h. Naza estará encantada de recibir muchos visitantes
  a los que podrá explicar tranquilamente sus obras.\nSaludos Alexa y Mich
 ael.\n
ATTACH;FMTTYPE=image/jpeg:https://www.larevistadelapalma.com/wp-content/up
 loads/2025/01/Catalogo-de-Especies-2.jpg
CATEGORIES:Exposiciones
LOCATION:Galería Avenida 17\, Tazacorte\, Calle Ángel 8\, Tazacorte\, 387
 70\, España
GEO:28.643958;-17.932794
X-APPLE-STRUCTURED-LOCATION;VALUE=URI;X-ADDRESS=Calle Ángel 8\, Tazacorte\
 , 38770\, España;X-APPLE-RADIUS=100;X-TITLE=Galería Avenida 17\, Tazacor
 te:geo:28.643958,-17.932794
END:VEVENT
END:VCALENDAR