BEGIN:VCALENDAR
VERSION:2.0
PRODID:-//wp-events-plugin.com//7.2.3.1//EN
TZID:Europe/London
X-WR-TIMEZONE:Europe/London
BEGIN:VEVENT
UID:975@larevistadelapalma.com
DTSTART:20240119T193000Z
DTEND:20240119T210000Z
DTSTAMP:20240103T220442Z
URL:https://www.larevistadelapalma.com/events/negras-musical/
SUMMARY:"Negras". Agachar la cabeza no es vivir
DESCRIPTION:\nLa primera producción musical del canario Kike Pérez.\nNegr
 as es una obra de teatro\, de corte musical\, que nos cuenta\, a través d
 e seis parejas diferentes\, eventos que han marcado la historia de los der
 echos civiles de los afroamericanos. Canciones míticas de las voces negra
 s\, interpretadas todas por la actriz protagonista\, nos van situando en c
 ada época.\n\n\nUn relato honesto\, pacífico\, aclarador y sincero de la
 s situaciones que afectaron de manera más relevante a algunos sectores po
 blacionales de raza negra durante el S.XX y principios del S.XXI. contada 
 a través de canciones que marcaron las décadas en las que se desarrollan
  las historias que Tony quiere contarle a un compañero atemporal y que se
 rá quién recoja las vivencias y diferentes puntos de vista que ha tenido
  la humanidad de convivir con las personas de raza negra.\n\n\nLa música 
 como elemento reivindicativo\, el arte como escaparate de aquellas y aquel
 los artistas que alzaron la voz a través de sus canciones\, o que ayudaro
 n a dar pasos adelante cuando se convirtieron en referentes musicales a ni
 vel mundial. Un recorrido extenso por canciones que fueron luz de guía y 
 apoyo cultural a movimientos sociales de gran aporte de la humanidad. El b
 lues\, jazz\, R&amp\;B\, hip-hop\, música afro\, pop\, etc. aportan al re
 lato un sello del legado que ha ido dejando durante décadas la riqueza ar
 tística de esta raza.\nCanciones que fueron guía y apoyo cultural a movi
 mientos sociales de gran relevancia: El blues\, jazz\, R&amp\;B\, hip-hop\
 , música afro\, pop\, etc.\nCon Wendy Ruiz\, David Arada y Saúl Romero y
  Kike Pérez (como actor y productor). Dirección de Tavi García.\n\n\n\n
 \nEntradas 15 €\, Comprar &gt\;&gt\;\nTambién en taquilla de lunes a vi
 ernes de 11 a 13 h\n
ATTACH;FMTTYPE=image/jpeg:https://www.larevistadelapalma.com/wp-content/up
 loads/2024/01/Negras.jpg
CATEGORIES:Espectáculos
LOCATION:Teatro Circo de Marte\, Calle Virgen de La Luz\, 5\, Santa Cruz de
  La Palma\, 38700\, España
GEO:28.682989;-17.765755
X-APPLE-STRUCTURED-LOCATION;VALUE=URI;X-ADDRESS=Calle Virgen de La Luz\, 5\
 , Santa Cruz de La Palma\, 38700\, España;X-APPLE-RADIUS=100;X-TITLE=Teat
 ro Circo de Marte:geo:28.682989,-17.765755
END:VEVENT
END:VCALENDARBEGIN:VCALENDAR
VERSION:2.0
PRODID:-//wp-events-plugin.com//7.2.3.1//EN
TZID:Europe/London
X-WR-TIMEZONE:Europe/London
BEGIN:VEVENT
UID:975@larevistadelapalma.com
DTSTART:20240119T193000Z
DTEND:20240119T210000Z
DTSTAMP:20240103T220442Z
URL:https://www.larevistadelapalma.com/events/negras-musical/
SUMMARY:"Negras". Agachar la cabeza no es vivir
DESCRIPTION:\nLa primera producción musical del canario Kike Pérez.\nNegr
 as es una obra de teatro\, de corte musical\, que nos cuenta\, a través d
 e seis parejas diferentes\, eventos que han marcado la historia de los der
 echos civiles de los afroamericanos. Canciones míticas de las voces negra
 s\, interpretadas todas por la actriz protagonista\, nos van situando en c
 ada época.\n\n\nUn relato honesto\, pacífico\, aclarador y sincero de la
 s situaciones que afectaron de manera más relevante a algunos sectores po
 blacionales de raza negra durante el S.XX y principios del S.XXI. contada 
 a través de canciones que marcaron las décadas en las que se desarrollan
  las historias que Tony quiere contarle a un compañero atemporal y que se
 rá quién recoja las vivencias y diferentes puntos de vista que ha tenido
  la humanidad de convivir con las personas de raza negra.\n\n\nLa música 
 como elemento reivindicativo\, el arte como escaparate de aquellas y aquel
 los artistas que alzaron la voz a través de sus canciones\, o que ayudaro
 n a dar pasos adelante cuando se convirtieron en referentes musicales a ni
 vel mundial. Un recorrido extenso por canciones que fueron luz de guía y 
 apoyo cultural a movimientos sociales de gran aporte de la humanidad. El b
 lues\, jazz\, R&amp\;B\, hip-hop\, música afro\, pop\, etc. aportan al re
 lato un sello del legado que ha ido dejando durante décadas la riqueza ar
 tística de esta raza.\nCanciones que fueron guía y apoyo cultural a movi
 mientos sociales de gran relevancia: El blues\, jazz\, R&amp\;B\, hip-hop\
 , música afro\, pop\, etc.\nCon Wendy Ruiz\, David Arada y Saúl Romero y
  Kike Pérez (como actor y productor). Dirección de Tavi García.\n\n\n\n
 \nEntradas 15 €\, Comprar &gt\;&gt\;\nTambién en taquilla de lunes a vi
 ernes de 11 a 13 h\n
ATTACH;FMTTYPE=image/jpeg:https://www.larevistadelapalma.com/wp-content/up
 loads/2024/01/Negras.jpg
CATEGORIES:Espectáculos
LOCATION:Teatro Circo de Marte\, Calle Virgen de La Luz\, 5\, Santa Cruz de
  La Palma\, 38700\, España
GEO:28.682989;-17.765755
X-APPLE-STRUCTURED-LOCATION;VALUE=URI;X-ADDRESS=Calle Virgen de La Luz\, 5\
 , Santa Cruz de La Palma\, 38700\, España;X-APPLE-RADIUS=100;X-TITLE=Teat
 ro Circo de Marte:geo:28.682989,-17.765755
END:VEVENT
END:VCALENDAR