BEGIN:VCALENDAR
VERSION:2.0
PRODID:-//wp-events-plugin.com//7.2.3.1//EN
TZID:Europe/London
X-WR-TIMEZONE:Europe/London
BEGIN:VEVENT
UID:3979@larevistadelapalma.com
DTSTART:20250920T100000Z
DTEND:20250920T120000Z
DTSTAMP:20250919T183923Z
URL:https://www.larevistadelapalma.com/events/ninolandia/
SUMMARY:"Niñolandia"
DESCRIPTION:Animación musical\, danza\, talleres. Un nuevo encuentro con l
 os más pequeños en NIÑOLANDIA el sábado 20 de septiembre en el parque 
 infantil\, de 11:00 a 13:00 horas. Participa la Escuela Municipal de Danza
  Maika Lerín. 
ATTACH;FMTTYPE=image/jpeg:https://www.larevistadelapalma.com/wp-content/up
 loads/2025/09/Ninolandia.jpg
CATEGORIES:Otras propuestas,Varios
LOCATION:Municipio de Santa Cruz de La Palma\, Santa Cruz de La Palma \, Sa
 nta Cruz de La Palma \, 38700\, España
GEO:28.688757;-17.765102
X-APPLE-STRUCTURED-LOCATION;VALUE=URI;X-ADDRESS=Santa Cruz de La Palma \, S
 anta Cruz de La Palma \, 38700\, España;X-APPLE-RADIUS=100;X-TITLE=Munici
 pio de Santa Cruz de La Palma:geo:28.688757,-17.765102
END:VEVENT
END:VCALENDARBEGIN:VCALENDAR
VERSION:2.0
PRODID:-//wp-events-plugin.com//7.2.3.1//EN
TZID:Europe/London
X-WR-TIMEZONE:Europe/London
BEGIN:VEVENT
UID:3979@larevistadelapalma.com
DTSTART:20250920T100000Z
DTEND:20250920T120000Z
DTSTAMP:20250919T183923Z
URL:https://www.larevistadelapalma.com/events/ninolandia/
SUMMARY:"Niñolandia"
DESCRIPTION:Animación musical\, danza\, talleres. Un nuevo encuentro con l
 os más pequeños en NIÑOLANDIA el sábado 20 de septiembre en el parque 
 infantil\, de 11:00 a 13:00 horas. Participa la Escuela Municipal de Danza
  Maika Lerín. 
ATTACH;FMTTYPE=image/jpeg:https://www.larevistadelapalma.com/wp-content/up
 loads/2025/09/Ninolandia.jpg
CATEGORIES:Otras propuestas,Varios
LOCATION:Municipio de Santa Cruz de La Palma\, Santa Cruz de La Palma \, Sa
 nta Cruz de La Palma \, 38700\, España
GEO:28.688757;-17.765102
X-APPLE-STRUCTURED-LOCATION;VALUE=URI;X-ADDRESS=Santa Cruz de La Palma \, S
 anta Cruz de La Palma \, 38700\, España;X-APPLE-RADIUS=100;X-TITLE=Munici
 pio de Santa Cruz de La Palma:geo:28.688757,-17.765102
END:VEVENT
END:VCALENDAR