BEGIN:VCALENDAR
VERSION:2.0
PRODID:-//wp-events-plugin.com//7.2.3.1//EN
TZID:Europe/London
X-WR-TIMEZONE:Europe/London
BEGIN:VEVENT
UID:810@larevistadelapalma.com
DTSTART:20231104T160000Z
DTEND:20231104T173000Z
DTSTAMP:20231103T223935Z
URL:https://www.larevistadelapalma.com/events/no-lo-tires-tocalo-primero-c
 on-alessandro-ferrato/
SUMMARY:'No lo tires \, Tócalo Primero'\, con Alessandro Ferrato
DESCRIPTION:El sábado\, en la Explanada Avenida El Emigrante del Puerto de
  Tazacorte\, habrá un concierto eco-sonoro titulado 'No lo tires \, Tóca
 lo Primero' a cargo de Alessandro Ferrato. Haciendo música\, a partir de 
 casi cualquier cosa...\n\nhttps://www.youtube.com/watch?v=cbRbhLYabjI
ATTACH;FMTTYPE=image/jpeg:https://www.larevistadelapalma.com/wp-content/up
 loads/2023/11/Alessandro-Ferrato.jpg
CATEGORIES:Conciertos,Música
LOCATION:Paseo del Puerto de Tazacorte\, playa tazacorte\, Tazacorte\, 3877
 0\, España
GEO:28.650997;-17.946173
X-APPLE-STRUCTURED-LOCATION;VALUE=URI;X-ADDRESS=playa tazacorte\, Tazacorte
 \, 38770\, España;X-APPLE-RADIUS=100;X-TITLE=Paseo del Puerto de Tazacort
 e:geo:28.650997,-17.946173
END:VEVENT
END:VCALENDARBEGIN:VCALENDAR
VERSION:2.0
PRODID:-//wp-events-plugin.com//7.2.3.1//EN
TZID:Europe/London
X-WR-TIMEZONE:Europe/London
BEGIN:VEVENT
UID:810@larevistadelapalma.com
DTSTART:20231104T160000Z
DTEND:20231104T173000Z
DTSTAMP:20231103T223935Z
URL:https://www.larevistadelapalma.com/events/no-lo-tires-tocalo-primero-c
 on-alessandro-ferrato/
SUMMARY:'No lo tires \, Tócalo Primero'\, con Alessandro Ferrato
DESCRIPTION:El sábado\, en la Explanada Avenida El Emigrante del Puerto de
  Tazacorte\, habrá un concierto eco-sonoro titulado 'No lo tires \, Tóca
 lo Primero' a cargo de Alessandro Ferrato. Haciendo música\, a partir de 
 casi cualquier cosa...\n\nhttps://www.youtube.com/watch?v=cbRbhLYabjI
ATTACH;FMTTYPE=image/jpeg:https://www.larevistadelapalma.com/wp-content/up
 loads/2023/11/Alessandro-Ferrato.jpg
CATEGORIES:Conciertos,Música
LOCATION:Paseo del Puerto de Tazacorte\, playa tazacorte\, Tazacorte\, 3877
 0\, España
GEO:28.650997;-17.946173
X-APPLE-STRUCTURED-LOCATION;VALUE=URI;X-ADDRESS=playa tazacorte\, Tazacorte
 \, 38770\, España;X-APPLE-RADIUS=100;X-TITLE=Paseo del Puerto de Tazacort
 e:geo:28.650997,-17.946173
END:VEVENT
END:VCALENDAR