BEGIN:VCALENDAR
VERSION:2.0
PRODID:-//wp-events-plugin.com//7.2.3.1//EN
TZID:Europe/London
X-WR-TIMEZONE:Europe/London
BEGIN:VEVENT
UID:3844@larevistadelapalma.com
DTSTART:20250621T190000Z
DTEND:20250621T225900Z
DTSTAMP:20250620T212818Z
URL:https://www.larevistadelapalma.com/events/noche-de-house-en-elvis-cock
 tail-bar/
SUMMARY:Noche de House en Elvis Cocktail Bar
DESCRIPTION:Este sábado suena el mejor House en Elvis Cocktail bar\, con D
 anish House Mafia y César Rodríguez.
ATTACH;FMTTYPE=image/jpeg:https://www.larevistadelapalma.com/wp-content/up
 loads/2025/06/House-Music-Elvis-Cocktail-Bar.jpg
CATEGORIES:Festivales/Fiestas,Música
LOCATION:Elvis Cocktail Bar\, Calle del Medio\, 15\, Los Llanos de Aridane\
 ,  38760\, España
GEO:28.658959;-17.911405
X-APPLE-STRUCTURED-LOCATION;VALUE=URI;X-ADDRESS=Calle del Medio\, 15\, Los 
 Llanos de Aridane\,  38760\, España;X-APPLE-RADIUS=100;X-TITLE=Elvis Cock
 tail Bar:geo:28.658959,-17.911405
END:VEVENT
END:VCALENDARBEGIN:VCALENDAR
VERSION:2.0
PRODID:-//wp-events-plugin.com//7.2.3.1//EN
TZID:Europe/London
X-WR-TIMEZONE:Europe/London
BEGIN:VEVENT
UID:3844@larevistadelapalma.com
DTSTART:20250621T190000Z
DTEND:20250621T225900Z
DTSTAMP:20250620T212818Z
URL:https://www.larevistadelapalma.com/events/noche-de-house-en-elvis-cock
 tail-bar/
SUMMARY:Noche de House en Elvis Cocktail Bar
DESCRIPTION:Este sábado suena el mejor House en Elvis Cocktail bar\, con D
 anish House Mafia y César Rodríguez.
ATTACH;FMTTYPE=image/jpeg:https://www.larevistadelapalma.com/wp-content/up
 loads/2025/06/House-Music-Elvis-Cocktail-Bar.jpg
CATEGORIES:Festivales/Fiestas,Música
LOCATION:Elvis Cocktail Bar\, Calle del Medio\, 15\, Los Llanos de Aridane\
 ,  38760\, España
GEO:28.658959;-17.911405
X-APPLE-STRUCTURED-LOCATION;VALUE=URI;X-ADDRESS=Calle del Medio\, 15\, Los 
 Llanos de Aridane\,  38760\, España;X-APPLE-RADIUS=100;X-TITLE=Elvis Cock
 tail Bar:geo:28.658959,-17.911405
END:VEVENT
END:VCALENDAR