BEGIN:VCALENDAR
VERSION:2.0
PRODID:-//wp-events-plugin.com//7.2.3.1//EN
TZID:Europe/London
X-WR-TIMEZONE:Europe/London
BEGIN:VEVENT
UID:3424@larevistadelapalma.com
DTSTART:20241130T160000Z
DTEND:20241130T225900Z
DTSTAMP:20241126T214514Z
URL:https://www.larevistadelapalma.com/events/noche-de-las-estrellas-en-sa
 nta-cruz-de-la-palma-2024/
SUMMARY:Noche de Las Estrellas en Santa Cruz de La Palma - 2024
DESCRIPTION:Santa Cruz comienza su programación navideña con esta jornada
  especial para este sábado\, 30 de noviembre\, que se desarrollará en ha
 sta quince puntos diferentes de la ciudad además de acciones itinerantes 
 con un horario especial de apertura comercial a partir de las 17:00 horas 
 hasta la medianoche.\nPROGRAMACIÓN:\nPlaza de La Alameda17:00 H. Aprender
  Jugando19:00 H. Fiesta Zona Joven. Glitter Yara\, Toro Mecanico Y Gladiad
 ores\, Simulador De Rally\, Plataforma 360 Y Dj´s. Ver más &gt\;&gt\;Iti
 nerante18:00 H. Pasacalles Muñecos Disney19:00 H. Charanga Palmera20:00 H
 . Pasacalles LedInicio Calle Real17:00 H. Feria de Artesanía17:00 H. Stan
 d Turismo17:00 H. Stand Cit TedoteCallejón Lemus18:00 H. Zona Juegos 3dP
 érgola18:00 H. CaricaturasTrasera del Cabildo17:00 H. Hinchables Y Taller
 es Infantiles.19:00 H. Música En Vivo Con Dj Tenax\, Grupo Libertad Y Dj 
 X.Atrio Del Ayuntamiento18:00 H. Talleres De Magia Y Show Infantil De Magi
 a.Sala de La Recova17:00 H. Escape Room.Plaza de España17:00 H. Stand De 
 La Sd. Tenisca17:00 H. Stand Del Club Patín Samín17:30 H. Exhibición De
 l Club Patín Samin19:00 H. Zona Patinaje Libre21:00 H. Actuación De Los 
 Humoristas Ayoze Pérez Y Jesús FarraisKiosko Eliseo17:00 H. Hinchables Y
  Talleres Infantiles19:00 H. Música En VivoPlaza Vandale19:00 H. Cuentacu
 entos con Omaira Morales\n\nLa Placeta19:00 H. Música en vivo.Acera Ancha
 19:00 H. Música en vivo.Farmacia de La Alameda19:00 H. Exposición de coc
 hes drift y competición19:30 H. Actuación de Siempre EllasAvenida Zona d
 e Los Balcones19:00 H. Música en vivoSolarium Avenida19:00 H. Inicio Zona
  Groove\n\nVer programación detallada &gt\;&gt\;
ATTACH;FMTTYPE=image/jpeg:https://www.larevistadelapalma.com/wp-content/up
 loads/2024/11/Noche-de-las-estrellas-santa-cruz-24.jpg
CATEGORIES:Ferias y mercados,Otras propuestas,Varios
LOCATION:Municipio de Santa Cruz de La Palma\, Santa Cruz de La Palma \, Sa
 nta Cruz de La Palma \, 38700\, España
GEO:28.688757;-17.765102
X-APPLE-STRUCTURED-LOCATION;VALUE=URI;X-ADDRESS=Santa Cruz de La Palma \, S
 anta Cruz de La Palma \, 38700\, España;X-APPLE-RADIUS=100;X-TITLE=Munici
 pio de Santa Cruz de La Palma:geo:28.688757,-17.765102
END:VEVENT
END:VCALENDARBEGIN:VCALENDAR
VERSION:2.0
PRODID:-//wp-events-plugin.com//7.2.3.1//EN
TZID:Europe/London
X-WR-TIMEZONE:Europe/London
BEGIN:VEVENT
UID:3424@larevistadelapalma.com
DTSTART:20241130T160000Z
DTEND:20241130T225900Z
DTSTAMP:20241126T214514Z
URL:https://www.larevistadelapalma.com/events/noche-de-las-estrellas-en-sa
 nta-cruz-de-la-palma-2024/
SUMMARY:Noche de Las Estrellas en Santa Cruz de La Palma - 2024
DESCRIPTION:Santa Cruz comienza su programación navideña con esta jornada
  especial para este sábado\, 30 de noviembre\, que se desarrollará en ha
 sta quince puntos diferentes de la ciudad además de acciones itinerantes 
 con un horario especial de apertura comercial a partir de las 17:00 horas 
 hasta la medianoche.\nPROGRAMACIÓN:\nPlaza de La Alameda17:00 H. Aprender
  Jugando19:00 H. Fiesta Zona Joven. Glitter Yara\, Toro Mecanico Y Gladiad
 ores\, Simulador De Rally\, Plataforma 360 Y Dj´s. Ver más &gt\;&gt\;Iti
 nerante18:00 H. Pasacalles Muñecos Disney19:00 H. Charanga Palmera20:00 H
 . Pasacalles LedInicio Calle Real17:00 H. Feria de Artesanía17:00 H. Stan
 d Turismo17:00 H. Stand Cit TedoteCallejón Lemus18:00 H. Zona Juegos 3dP
 érgola18:00 H. CaricaturasTrasera del Cabildo17:00 H. Hinchables Y Taller
 es Infantiles.19:00 H. Música En Vivo Con Dj Tenax\, Grupo Libertad Y Dj 
 X.Atrio Del Ayuntamiento18:00 H. Talleres De Magia Y Show Infantil De Magi
 a.Sala de La Recova17:00 H. Escape Room.Plaza de España17:00 H. Stand De 
 La Sd. Tenisca17:00 H. Stand Del Club Patín Samín17:30 H. Exhibición De
 l Club Patín Samin19:00 H. Zona Patinaje Libre21:00 H. Actuación De Los 
 Humoristas Ayoze Pérez Y Jesús FarraisKiosko Eliseo17:00 H. Hinchables Y
  Talleres Infantiles19:00 H. Música En VivoPlaza Vandale19:00 H. Cuentacu
 entos con Omaira Morales\n\nLa Placeta19:00 H. Música en vivo.Acera Ancha
 19:00 H. Música en vivo.Farmacia de La Alameda19:00 H. Exposición de coc
 hes drift y competición19:30 H. Actuación de Siempre EllasAvenida Zona d
 e Los Balcones19:00 H. Música en vivoSolarium Avenida19:00 H. Inicio Zona
  Groove\n\nVer programación detallada &gt\;&gt\;
ATTACH;FMTTYPE=image/jpeg:https://www.larevistadelapalma.com/wp-content/up
 loads/2024/11/Noche-de-las-estrellas-santa-cruz-24.jpg
CATEGORIES:Ferias y mercados,Otras propuestas,Varios
LOCATION:Municipio de Santa Cruz de La Palma\, Santa Cruz de La Palma \, Sa
 nta Cruz de La Palma \, 38700\, España
GEO:28.688757;-17.765102
X-APPLE-STRUCTURED-LOCATION;VALUE=URI;X-ADDRESS=Santa Cruz de La Palma \, S
 anta Cruz de La Palma \, 38700\, España;X-APPLE-RADIUS=100;X-TITLE=Munici
 pio de Santa Cruz de La Palma:geo:28.688757,-17.765102
END:VEVENT
END:VCALENDAR