BEGIN:VCALENDAR
VERSION:2.0
PRODID:-//wp-events-plugin.com//7.2.3.1//EN
TZID:Europe/London
X-WR-TIMEZONE:Europe/London
BEGIN:VEVENT
UID:187@larevistadelapalma.com
DTSTART:20230727T193000Z
DTEND:20230727T213000Z
DTSTAMP:20230720T224111Z
URL:https://www.larevistadelapalma.com/events/noches-en-cubierta/
SUMMARY:Una noche en el Museo Naval con cena y música
DESCRIPTION:El Museo Naval retoma las "Noches en cubierta"\, disfrutar de u
 na visita privada al museo\, con una cena y música en vivo.
ATTACH;FMTTYPE=image/jpeg:https://www.larevistadelapalma.com/wp-content/up
 loads/2023/07/Noches-en-cubierta.jpg
CATEGORIES:Gastro,Otras propuestas
LOCATION:Museo Naval Santa Cruz de La Palma (El barco de La Virgen)\, Aveni
 da de Las NIeves\, Plaza de La Alameda\, Santa Cruz De La Palma\, Santa Cr
 uz de Tenerife\, 38700\, España
GEO:28.688148;-17.761123
X-APPLE-STRUCTURED-LOCATION;VALUE=URI;X-ADDRESS=Avenida de Las NIeves\, Pla
 za de La Alameda\, Santa Cruz De La Palma\, Santa Cruz de Tenerife\, 38700
 \, España;X-APPLE-RADIUS=100;X-TITLE=Museo Naval Santa Cruz de La Palma (
 El barco de La Virgen):geo:28.688148,-17.761123
END:VEVENT
END:VCALENDARBEGIN:VCALENDAR
VERSION:2.0
PRODID:-//wp-events-plugin.com//7.2.3.1//EN
TZID:Europe/London
X-WR-TIMEZONE:Europe/London
BEGIN:VEVENT
UID:187@larevistadelapalma.com
DTSTART:20230727T193000Z
DTEND:20230727T213000Z
DTSTAMP:20230720T224111Z
URL:https://www.larevistadelapalma.com/events/noches-en-cubierta/
SUMMARY:Una noche en el Museo Naval con cena y música
DESCRIPTION:El Museo Naval retoma las "Noches en cubierta"\, disfrutar de u
 na visita privada al museo\, con una cena y música en vivo.
ATTACH;FMTTYPE=image/jpeg:https://www.larevistadelapalma.com/wp-content/up
 loads/2023/07/Noches-en-cubierta.jpg
CATEGORIES:Gastro,Otras propuestas
LOCATION:Museo Naval Santa Cruz de La Palma (El barco de La Virgen)\, Aveni
 da de Las NIeves\, Plaza de La Alameda\, Santa Cruz De La Palma\, Santa Cr
 uz de Tenerife\, 38700\, España
GEO:28.688148;-17.761123
X-APPLE-STRUCTURED-LOCATION;VALUE=URI;X-ADDRESS=Avenida de Las NIeves\, Pla
 za de La Alameda\, Santa Cruz De La Palma\, Santa Cruz de Tenerife\, 38700
 \, España;X-APPLE-RADIUS=100;X-TITLE=Museo Naval Santa Cruz de La Palma (
 El barco de La Virgen):geo:28.688148,-17.761123
END:VEVENT
END:VCALENDAR