BEGIN:VCALENDAR
VERSION:2.0
PRODID:-//wp-events-plugin.com//7.2.3.1//EN
TZID:Europe/London
X-WR-TIMEZONE:Europe/London
BEGIN:VEVENT
UID:2765@larevistadelapalma.com
DTSTART:20240601T120000Z
DTEND:20240601T211500Z
DTSTAMP:20240523T231905Z
URL:https://www.larevistadelapalma.com/events/noventate-2024/
SUMMARY:Novéntate
DESCRIPTION:\n\nNoventate\, segundo round: King África + Sergio Aranda de 
 Ráfaga + Twinyi de Unión Lírica.\n\nNovéntate prepara una nueva edici
 ón para los nostálgicos\, se celebrará el 30 de mayo y el 1 de junio de
  2024\, en el Parque Antonio Gómez Felipe de Los Llanos de Aridane.\nEn l
 a primera parte del encuentro\, contarán con Marília\, la que fue integr
 ante del dúo femenino "Ella baila sola". Ella estará en la cita del 30 d
 e mayo junto a Mamajuana’s.\nEl segundo día\, será el turno de King Á
 frica (proyecto con el que el argentino Alan Duffy llegó a los primeros p
 uestos de las listas en Europa y Latinoamérica con sus temas "Bomba" o "C
 amaleón" que sonaban en todas las fiestas y saraos veraniegos) El argenti
 no estará invitado en la cita del 1 de junio junto a Sergio Aranda del gr
 upo Ráfaga y Twinyi de Unión Lírica\, que vuelve a la Isla de La Palma
 \, no solo para cantar sus éxitos\, sino que además pinchará los hits d
 e los 90.\nhttps://www.youtube.com/watch?v=20XosooMe7A\n\nhttps://www.yout
 ube.com/watch?v=ihrUZRxgef4\nNo solo será la música la protagonista de e
 ste viaje hacia un decenio que marcó la vida de tantos\, no faltarán ele
 mentos distintivos de la época como un videoclub con las mejor cartelerí
 a de los 90\; una sala de juegos con las clásicas Super Nintendo y Sega M
 egadrive y vehículos y tecnología de la época\, que a más de uno hará
 n volar hacia su juventud o infancia.\nLa gran novedad de este año es que
  Novéntate se convierte en un evento autosostenible\,  el primer evento 
 en producir su propia energía en La Palma. Este proyecto sostenible\, apo
 yado por la consejería de Transición Ecológica y Energía del Gobierno 
 de Canarias y por Solarmax Canarias\, supone la instalación de una superf
 icie de unos 20 metros cuadrados de placas solares\, dentro del propio rec
 into del evento\, para la producción de energía. Se producirá una media
  de 5 kW/ hora en las horas de mayor incidencia solar y se espera poder ll
 egar a consumir directamente la energía producida y verter el excedente f
 otovoltaico a la red eléctrica\, abasteciendo en torno al 65% de la energ
 ía necesaria para llevar a cabo el evento.\nLas entradas están disponibl
 es en: @lapalmalavers y @tascalacuatro . La entrada incluye transporte gra
 tuito desde Santa Cruz de La Palma el sábado 1 de junio con salida a las 
 15:00h de la capital y de Los Llanos a las 22:00h.\n\n\n\n\n\n
ATTACH;FMTTYPE=image/jpeg:https://www.larevistadelapalma.com/wp-content/up
 loads/2024/02/King-Africa-NOventate.jpg
CATEGORIES:Festivales/Fiestas,Música
LOCATION:Parque Antonio Gómez Felipe\, Ctra. Puerto Naos A\, 5\, Los Llano
 s de Aridane\, 38767\, España
GEO:28.655023;-17.912567
X-APPLE-STRUCTURED-LOCATION;VALUE=URI;X-ADDRESS=Ctra. Puerto Naos A\, 5\, L
 os Llanos de Aridane\, 38767\, España;X-APPLE-RADIUS=100;X-TITLE=Parque A
 ntonio Gómez Felipe:geo:28.655023,-17.912567
END:VEVENT
END:VCALENDARBEGIN:VCALENDAR
VERSION:2.0
PRODID:-//wp-events-plugin.com//7.2.3.1//EN
TZID:Europe/London
X-WR-TIMEZONE:Europe/London
BEGIN:VEVENT
UID:2765@larevistadelapalma.com
DTSTART:20240601T120000Z
DTEND:20240601T211500Z
DTSTAMP:20240523T231905Z
URL:https://www.larevistadelapalma.com/events/noventate-2024/
SUMMARY:Novéntate
DESCRIPTION:\n\nNoventate\, segundo round: King África + Sergio Aranda de 
 Ráfaga + Twinyi de Unión Lírica.\n\nNovéntate prepara una nueva edici
 ón para los nostálgicos\, se celebrará el 30 de mayo y el 1 de junio de
  2024\, en el Parque Antonio Gómez Felipe de Los Llanos de Aridane.\nEn l
 a primera parte del encuentro\, contarán con Marília\, la que fue integr
 ante del dúo femenino "Ella baila sola". Ella estará en la cita del 30 d
 e mayo junto a Mamajuana’s.\nEl segundo día\, será el turno de King Á
 frica (proyecto con el que el argentino Alan Duffy llegó a los primeros p
 uestos de las listas en Europa y Latinoamérica con sus temas "Bomba" o "C
 amaleón" que sonaban en todas las fiestas y saraos veraniegos) El argenti
 no estará invitado en la cita del 1 de junio junto a Sergio Aranda del gr
 upo Ráfaga y Twinyi de Unión Lírica\, que vuelve a la Isla de La Palma
 \, no solo para cantar sus éxitos\, sino que además pinchará los hits d
 e los 90.\nhttps://www.youtube.com/watch?v=20XosooMe7A\n\nhttps://www.yout
 ube.com/watch?v=ihrUZRxgef4\nNo solo será la música la protagonista de e
 ste viaje hacia un decenio que marcó la vida de tantos\, no faltarán ele
 mentos distintivos de la época como un videoclub con las mejor cartelerí
 a de los 90\; una sala de juegos con las clásicas Super Nintendo y Sega M
 egadrive y vehículos y tecnología de la época\, que a más de uno hará
 n volar hacia su juventud o infancia.\nLa gran novedad de este año es que
  Novéntate se convierte en un evento autosostenible\,  el primer evento 
 en producir su propia energía en La Palma. Este proyecto sostenible\, apo
 yado por la consejería de Transición Ecológica y Energía del Gobierno 
 de Canarias y por Solarmax Canarias\, supone la instalación de una superf
 icie de unos 20 metros cuadrados de placas solares\, dentro del propio rec
 into del evento\, para la producción de energía. Se producirá una media
  de 5 kW/ hora en las horas de mayor incidencia solar y se espera poder ll
 egar a consumir directamente la energía producida y verter el excedente f
 otovoltaico a la red eléctrica\, abasteciendo en torno al 65% de la energ
 ía necesaria para llevar a cabo el evento.\nLas entradas están disponibl
 es en: @lapalmalavers y @tascalacuatro . La entrada incluye transporte gra
 tuito desde Santa Cruz de La Palma el sábado 1 de junio con salida a las 
 15:00h de la capital y de Los Llanos a las 22:00h.\n\n\n\n\n\n
ATTACH;FMTTYPE=image/jpeg:https://www.larevistadelapalma.com/wp-content/up
 loads/2024/02/King-Africa-NOventate.jpg
CATEGORIES:Festivales/Fiestas,Música
LOCATION:Parque Antonio Gómez Felipe\, Ctra. Puerto Naos A\, 5\, Los Llano
 s de Aridane\, 38767\, España
GEO:28.655023;-17.912567
X-APPLE-STRUCTURED-LOCATION;VALUE=URI;X-ADDRESS=Ctra. Puerto Naos A\, 5\, L
 os Llanos de Aridane\, 38767\, España;X-APPLE-RADIUS=100;X-TITLE=Parque A
 ntonio Gómez Felipe:geo:28.655023,-17.912567
END:VEVENT
END:VCALENDAR