BEGIN:VCALENDAR
VERSION:2.0
PRODID:-//wp-events-plugin.com//7.2.3.1//EN
TZID:Europe/London
X-WR-TIMEZONE:Europe/London
BEGIN:VEVENT
UID:3771@larevistadelapalma.com
DTSTART;VALUE=DATE:20250531
DTEND;VALUE=DATE:20250601
DTSTAMP:20250530T092256Z
URL:https://www.larevistadelapalma.com/events/noventate-2o-dia/
SUMMARY:"Novéntate" (2º día)
DESCRIPTION:Rafa Sánchez\, de "La Unión"\; "Amistades Peligrosas"\; la le
 yenda noventera Baby D\; DJ Jose AM\, Renzo el Selector y Los Stereos ser
 án los conductores de este viaje noventero.
ATTACH;FMTTYPE=image/jpeg:https://www.larevistadelapalma.com/wp-content/up
 loads/2025/01/cartel-2025-lp-1.jpg
CATEGORIES:Festivales/Fiestas,Música
LOCATION:Parque Antonio Gómez Felipe\, Ctra. Puerto Naos A\, 5\, Los Llano
 s de Aridane\, 38767\, España
GEO:28.655023;-17.912567
X-APPLE-STRUCTURED-LOCATION;VALUE=URI;X-ADDRESS=Ctra. Puerto Naos A\, 5\, L
 os Llanos de Aridane\, 38767\, España;X-APPLE-RADIUS=100;X-TITLE=Parque A
 ntonio Gómez Felipe:geo:28.655023,-17.912567
END:VEVENT
END:VCALENDARBEGIN:VCALENDAR
VERSION:2.0
PRODID:-//wp-events-plugin.com//7.2.3.1//EN
TZID:Europe/London
X-WR-TIMEZONE:Europe/London
BEGIN:VEVENT
UID:3771@larevistadelapalma.com
DTSTART;VALUE=DATE:20250531
DTEND;VALUE=DATE:20250601
DTSTAMP:20250530T092256Z
URL:https://www.larevistadelapalma.com/events/noventate-2o-dia/
SUMMARY:"Novéntate" (2º día)
DESCRIPTION:Rafa Sánchez\, de "La Unión"\; "Amistades Peligrosas"\; la le
 yenda noventera Baby D\; DJ Jose AM\, Renzo el Selector y Los Stereos ser
 án los conductores de este viaje noventero.
ATTACH;FMTTYPE=image/jpeg:https://www.larevistadelapalma.com/wp-content/up
 loads/2025/01/cartel-2025-lp-1.jpg
CATEGORIES:Festivales/Fiestas,Música
LOCATION:Parque Antonio Gómez Felipe\, Ctra. Puerto Naos A\, 5\, Los Llano
 s de Aridane\, 38767\, España
GEO:28.655023;-17.912567
X-APPLE-STRUCTURED-LOCATION;VALUE=URI;X-ADDRESS=Ctra. Puerto Naos A\, 5\, L
 os Llanos de Aridane\, 38767\, España;X-APPLE-RADIUS=100;X-TITLE=Parque A
 ntonio Gómez Felipe:geo:28.655023,-17.912567
END:VEVENT
END:VCALENDAR