BEGIN:VCALENDAR
VERSION:2.0
PRODID:-//wp-events-plugin.com//7.2.3.1//EN
TZID:Europe/London
X-WR-TIMEZONE:Europe/London
BEGIN:VEVENT
UID:573@larevistadelapalma.com
DTSTART:20230805T140000Z
DTEND:20230805T200000Z
DTSTAMP:20230731T215723Z
URL:https://www.larevistadelapalma.com/events/noventate/
SUMMARY:Noventate
DESCRIPTION:El evento musical del verano que te hará revivir la década de
  los 90.\nCon Dj Kun\, Ginés Cedres\, Sin fundamento\, Jacob Alonso\, Fel
 ipe.\n\nÚLTIMAS ENTRADAS en La Palma Lavers y Tasca La Cuatro
ATTACH;FMTTYPE=image/jpeg:https://www.larevistadelapalma.com/wp-content/up
 loads/2023/07/Noventate.jpg
CATEGORIES:Festivales/Fiestas,Música
LOCATION:Parque Antonio Gómez Felipe\, Ctra. Puerto Naos A\, 5\, Los Llano
 s de Aridane\, 38767\, España
GEO:28.655023;-17.912567
X-APPLE-STRUCTURED-LOCATION;VALUE=URI;X-ADDRESS=Ctra. Puerto Naos A\, 5\, L
 os Llanos de Aridane\, 38767\, España;X-APPLE-RADIUS=100;X-TITLE=Parque A
 ntonio Gómez Felipe:geo:28.655023,-17.912567
END:VEVENT
END:VCALENDARBEGIN:VCALENDAR
VERSION:2.0
PRODID:-//wp-events-plugin.com//7.2.3.1//EN
TZID:Europe/London
X-WR-TIMEZONE:Europe/London
BEGIN:VEVENT
UID:573@larevistadelapalma.com
DTSTART:20230805T140000Z
DTEND:20230805T200000Z
DTSTAMP:20230731T215723Z
URL:https://www.larevistadelapalma.com/events/noventate/
SUMMARY:Noventate
DESCRIPTION:El evento musical del verano que te hará revivir la década de
  los 90.\nCon Dj Kun\, Ginés Cedres\, Sin fundamento\, Jacob Alonso\, Fel
 ipe.\n\nÚLTIMAS ENTRADAS en La Palma Lavers y Tasca La Cuatro
ATTACH;FMTTYPE=image/jpeg:https://www.larevistadelapalma.com/wp-content/up
 loads/2023/07/Noventate.jpg
CATEGORIES:Festivales/Fiestas,Música
LOCATION:Parque Antonio Gómez Felipe\, Ctra. Puerto Naos A\, 5\, Los Llano
 s de Aridane\, 38767\, España
GEO:28.655023;-17.912567
X-APPLE-STRUCTURED-LOCATION;VALUE=URI;X-ADDRESS=Ctra. Puerto Naos A\, 5\, L
 os Llanos de Aridane\, 38767\, España;X-APPLE-RADIUS=100;X-TITLE=Parque A
 ntonio Gómez Felipe:geo:28.655023,-17.912567
END:VEVENT
END:VCALENDAR