BEGIN:VCALENDAR
VERSION:2.0
PRODID:-//wp-events-plugin.com//7.2.3.1//EN
TZID:Europe/London
X-WR-TIMEZONE:Europe/London
BEGIN:VEVENT
UID:3433@larevistadelapalma.com
DTSTART:20241221T190000Z
DTEND:20241221T220000Z
DTSTAMP:20241127T134226Z
URL:https://www.larevistadelapalma.com/events/nueva-edicion-de-anochecer-g
 aitero/
SUMMARY:Nueva edición de "Anochecer Gaitero"
DESCRIPTION:Un día donde la música nos conectará con nuestras raíces de
  manera única y especial.\n\nLos artistas invitados son:\n\n•Carlos Tal
 ez y su orquesta\, cantante y tambor venezolano .\n• Gaita\, cuero y mad
 era\, gran Agrupación Gaitera\, el sabor de la gaita zuliana.\n•Luis Me
 dina Show\, showman y cantante venezolano.\n•Dj Yardy
ATTACH;FMTTYPE=image/jpeg:https://www.larevistadelapalma.com/wp-content/up
 loads/2024/11/Anochecer-Gaitero-24.png
CATEGORIES:Festivales/Fiestas,Música
LOCATION:Plaza de San Francisco\, Plaza de San Francisco \, Santa Cruz De L
 a Palma\, Santa Cruz de Tenerife\, 38700\, España
GEO:28.683698;-17.767894
X-APPLE-STRUCTURED-LOCATION;VALUE=URI;X-ADDRESS=Plaza de San Francisco \, S
 anta Cruz De La Palma\, Santa Cruz de Tenerife\, 38700\, España;X-APPLE-R
 ADIUS=100;X-TITLE=Plaza de San Francisco:geo:28.683698,-17.767894
END:VEVENT
END:VCALENDARBEGIN:VCALENDAR
VERSION:2.0
PRODID:-//wp-events-plugin.com//7.2.3.1//EN
TZID:Europe/London
X-WR-TIMEZONE:Europe/London
BEGIN:VEVENT
UID:3433@larevistadelapalma.com
DTSTART:20241221T190000Z
DTEND:20241221T220000Z
DTSTAMP:20241127T134226Z
URL:https://www.larevistadelapalma.com/events/nueva-edicion-de-anochecer-g
 aitero/
SUMMARY:Nueva edición de "Anochecer Gaitero"
DESCRIPTION:Un día donde la música nos conectará con nuestras raíces de
  manera única y especial.\n\nLos artistas invitados son:\n\n•Carlos Tal
 ez y su orquesta\, cantante y tambor venezolano .\n• Gaita\, cuero y mad
 era\, gran Agrupación Gaitera\, el sabor de la gaita zuliana.\n•Luis Me
 dina Show\, showman y cantante venezolano.\n•Dj Yardy
ATTACH;FMTTYPE=image/jpeg:https://www.larevistadelapalma.com/wp-content/up
 loads/2024/11/Anochecer-Gaitero-24.png
CATEGORIES:Festivales/Fiestas,Música
LOCATION:Plaza de San Francisco\, Plaza de San Francisco \, Santa Cruz De L
 a Palma\, Santa Cruz de Tenerife\, 38700\, España
GEO:28.683698;-17.767894
X-APPLE-STRUCTURED-LOCATION;VALUE=URI;X-ADDRESS=Plaza de San Francisco \, S
 anta Cruz De La Palma\, Santa Cruz de Tenerife\, 38700\, España;X-APPLE-R
 ADIUS=100;X-TITLE=Plaza de San Francisco:geo:28.683698,-17.767894
END:VEVENT
END:VCALENDAR